Back to Multiple platform build/check report for BioC 3.13 experimental data
AB[C]DEFGHIJKLMNOPQRSTUVWXYZ

CHECK report for CopyhelpeR on riesling1

This page was generated on 2021-01-14 15:59:07 -0500 (Thu, 14 Jan 2021).

TO THE DEVELOPERS/MAINTAINERS OF THE CopyhelpeR PACKAGE: Please make sure to use the following settings in order to reproduce any error or warning you see on this page.
Package 75/385HostnameOS / ArchINSTALLBUILDCHECK
CopyhelpeR 1.23.0
Oscar Krijgsman
Snapshot Date: 2021-01-14 09:00:13 -0500 (Thu, 14 Jan 2021)
URL: https://git.bioconductor.org/packages/CopyhelpeR
Branch: master
Last Commit: 995a539
Last Changed Date: 2020-10-27 10:12:43 -0500 (Tue, 27 Oct 2020)
malbec2 Linux (Ubuntu 20.04.1 LTS) / x86_64  OK  OK  OK UNNEEDED, same version exists in internal repository
riesling1 Windows Server 2019 Standard / x64  OK  OK [ OK ]

Summary

Package: CopyhelpeR
Version: 1.23.0
Command: D:\biocbuild\bbs-3.13-bioc\R\bin\R.exe CMD check --force-multiarch --install=check:CopyhelpeR.install-out.txt --library=D:\biocbuild\bbs-3.13-bioc\R\library --no-vignettes --timings CopyhelpeR_1.23.0.tar.gz
StartedAt: 2021-01-14 11:11:45 -0500 (Thu, 14 Jan 2021)
EndedAt: 2021-01-14 11:12:03 -0500 (Thu, 14 Jan 2021)
EllapsedTime: 18.7 seconds
RetCode: 0
Status:  OK  
CheckDir: CopyhelpeR.Rcheck
Warnings: 0

Command output

##############################################################################
##############################################################################
###
### Running command:
###
###   D:\biocbuild\bbs-3.13-bioc\R\bin\R.exe CMD check --force-multiarch --install=check:CopyhelpeR.install-out.txt --library=D:\biocbuild\bbs-3.13-bioc\R\library --no-vignettes --timings CopyhelpeR_1.23.0.tar.gz
###
##############################################################################
##############################################################################


* using log directory 'D:/biocbuild/bbs-3.13-data-experiment/meat/CopyhelpeR.Rcheck'
* using R Under development (unstable) (2020-12-30 r79736)
* using platform: x86_64-w64-mingw32 (64-bit)
* using session charset: ISO8859-1
* using option '--no-vignettes'
* checking for file 'CopyhelpeR/DESCRIPTION' ... OK
* checking extension type ... Package
* this is package 'CopyhelpeR' version '1.23.0'
* checking package namespace information ... OK
* checking package dependencies ... OK
* checking if this is a source package ... OK
* checking if there is a namespace ... OK
* checking for hidden files and directories ... OK
* checking for portable file names ... OK
* checking whether package 'CopyhelpeR' can be installed ... OK
* checking installed package size ... NOTE
  installed size is 42.9Mb
  sub-directories of 1Mb or more:
    extdata  42.8Mb
* checking package directory ... OK
* checking 'build' directory ... OK
* checking DESCRIPTION meta-information ... OK
* checking top-level files ... OK
* checking for left-over files ... OK
* checking index information ... OK
* checking package subdirectories ... OK
* checking R files for non-ASCII characters ... OK
* checking R files for syntax errors ... OK
* loading checks for arch 'i386'
** checking whether the package can be loaded ... OK
** checking whether the package can be loaded with stated dependencies ... OK
** checking whether the package can be unloaded cleanly ... OK
** checking whether the namespace can be loaded with stated dependencies ... OK
** checking whether the namespace can be unloaded cleanly ... OK
* loading checks for arch 'x64'
** checking whether the package can be loaded ... OK
** checking whether the package can be loaded with stated dependencies ... OK
** checking whether the package can be unloaded cleanly ... OK
** checking whether the namespace can be loaded with stated dependencies ... OK
** checking whether the namespace can be unloaded cleanly ... OK
* checking dependencies in R code ... OK
* checking S3 generic/method consistency ... OK
* checking replacement functions ... OK
* checking foreign function calls ... OK
* checking R code for possible problems ... OK
* checking Rd files ... OK
* checking Rd metadata ... OK
* checking Rd cross-references ... OK
* checking for missing documentation entries ... OK
* checking for code/documentation mismatches ... OK
* checking Rd \usage sections ... OK
* checking Rd contents ... OK
* checking for unstated dependencies in examples ... OK
* checking files in 'vignettes' ... OK
* checking examples ...
** running examples for arch 'i386' ... OK
** running examples for arch 'x64' ... OK
* checking for unstated dependencies in vignettes ... OK
* checking package vignettes in 'inst/doc' ... OK
* checking running R code from vignettes ... SKIPPED
* checking re-building of vignette outputs ... SKIPPED
* checking PDF version of manual ... OK
* DONE

Status: 1 NOTE
See
  'D:/biocbuild/bbs-3.13-data-experiment/meat/CopyhelpeR.Rcheck/00check.log'
for details.



Installation output

CopyhelpeR.Rcheck/00install.out

##############################################################################
##############################################################################
###
### Running command:
###
###   C:\cygwin\bin\curl.exe -O http://172.29.0.4/BBS/3.13/data-experiment/src/contrib/CopyhelpeR_1.23.0.tar.gz && rm -rf CopyhelpeR.buildbin-libdir && mkdir CopyhelpeR.buildbin-libdir && D:\biocbuild\bbs-3.13-bioc\R\bin\R.exe CMD INSTALL --merge-multiarch --build --library=CopyhelpeR.buildbin-libdir CopyhelpeR_1.23.0.tar.gz && D:\biocbuild\bbs-3.13-bioc\R\bin\R.exe CMD INSTALL CopyhelpeR_1.23.0.zip && rm CopyhelpeR_1.23.0.tar.gz CopyhelpeR_1.23.0.zip
###
##############################################################################
##############################################################################


  % Total    % Received % Xferd  Average Speed   Time    Time     Time  Current
                                 Dload  Upload   Total   Spent    Left  Speed

  0     0    0     0    0     0      0      0 --:--:-- --:--:-- --:--:--     0
  2 42.8M    2 1144k    0     0  1685k      0  0:00:26 --:--:--  0:00:26 1683k
 75 42.8M   75 32.5M    0     0  20.3M      0  0:00:02  0:00:01  0:00:01 20.3M
 92 42.8M   92 39.4M    0     0  13.6M      0  0:00:03  0:00:02  0:00:01 13.6M
100 42.8M  100 42.8M    0     0  14.2M      0  0:00:02  0:00:02 --:--:-- 14.2M

install for i386

* installing *source* package 'CopyhelpeR' ...
** using staged installation
** R
** inst
** byte-compile and prepare package for lazy loading
** help
*** installing help indices
  converting help for package 'CopyhelpeR'
    finding HTML links ... done
    getPathHelperFiles                      html  
REDIRECT:topic	 getPathHelperFiles -> getPathHelperFiles.html [ SUCCESS ]
REDIRECT:topic	 CopyhelpeR -> getPathHelperFiles.html [ SUCCESS ]
** building package indices
** installing vignettes
** testing if installed package can be loaded from temporary location
** testing if installed package can be loaded from final location
** testing if installed package keeps a record of temporary installation path

install for x64

* installing *source* package 'CopyhelpeR' ...
** testing if installed package can be loaded
* MD5 sums
packaged installation of 'CopyhelpeR' as CopyhelpeR_1.23.0.zip
* DONE (CopyhelpeR)
* installing to library 'D:/biocbuild/bbs-3.13-bioc/R/library'
package 'CopyhelpeR' successfully unpacked and MD5 sums checked

Tests output


Example timings

CopyhelpeR.Rcheck/examples_i386/CopyhelpeR-Ex.timings

nameusersystemelapsed
getPathHelperFiles000

CopyhelpeR.Rcheck/examples_x64/CopyhelpeR-Ex.timings

nameusersystemelapsed
getPathHelperFiles000