Back to Multiple platform build/check report for BioC 3.13 experimental data
AB[C]DEFGHIJKLMNOPQRSTUVWXYZ

INSTALL report for CopyNeutralIMA on riesling1

This page was generated on 2021-01-14 15:59:07 -0500 (Thu, 14 Jan 2021).

TO THE DEVELOPERS/MAINTAINERS OF THE CopyNeutralIMA PACKAGE: Please make sure to use the following settings in order to reproduce any error or warning you see on this page.
Package 76/385HostnameOS / ArchINSTALLBUILDCHECK
CopyNeutralIMA 1.9.0
Xavier Pastor Hostench
Snapshot Date: 2021-01-14 09:00:13 -0500 (Thu, 14 Jan 2021)
URL: https://git.bioconductor.org/packages/CopyNeutralIMA
Branch: master
Last Commit: b9ed464
Last Changed Date: 2020-10-27 10:27:13 -0500 (Tue, 27 Oct 2020)
malbec2 Linux (Ubuntu 20.04.1 LTS) / x86_64  OK  OK  OK UNNEEDED, same version exists in internal repository
riesling1 Windows Server 2019 Standard / x64 [ OK ] OK  OK 

Summary

Package: CopyNeutralIMA
Version: 1.9.0
Command: C:\cygwin\bin\curl.exe -O http://172.29.0.4/BBS/3.13/data-experiment/src/contrib/CopyNeutralIMA_1.9.0.tar.gz && rm -rf CopyNeutralIMA.buildbin-libdir && mkdir CopyNeutralIMA.buildbin-libdir && D:\biocbuild\bbs-3.13-bioc\R\bin\R.exe CMD INSTALL --merge-multiarch --build --library=CopyNeutralIMA.buildbin-libdir CopyNeutralIMA_1.9.0.tar.gz && D:\biocbuild\bbs-3.13-bioc\R\bin\R.exe CMD INSTALL CopyNeutralIMA_1.9.0.zip && rm CopyNeutralIMA_1.9.0.tar.gz CopyNeutralIMA_1.9.0.zip
StartedAt: 2021-01-14 10:10:46 -0500 (Thu, 14 Jan 2021)
EndedAt: 2021-01-14 10:11:02 -0500 (Thu, 14 Jan 2021)
EllapsedTime: 16.1 seconds
RetCode: 0
Status:  OK  

Command output

##############################################################################
##############################################################################
###
### Running command:
###
###   C:\cygwin\bin\curl.exe -O http://172.29.0.4/BBS/3.13/data-experiment/src/contrib/CopyNeutralIMA_1.9.0.tar.gz && rm -rf CopyNeutralIMA.buildbin-libdir && mkdir CopyNeutralIMA.buildbin-libdir && D:\biocbuild\bbs-3.13-bioc\R\bin\R.exe CMD INSTALL --merge-multiarch --build --library=CopyNeutralIMA.buildbin-libdir CopyNeutralIMA_1.9.0.tar.gz && D:\biocbuild\bbs-3.13-bioc\R\bin\R.exe CMD INSTALL CopyNeutralIMA_1.9.0.zip && rm CopyNeutralIMA_1.9.0.tar.gz CopyNeutralIMA_1.9.0.zip
###
##############################################################################
##############################################################################


  % Total    % Received % Xferd  Average Speed   Time    Time     Time  Current
                                 Dload  Upload   Total   Spent    Left  Speed

  0     0    0     0    0     0      0      0 --:--:-- --:--:-- --:--:--     0
100  115k  100  115k    0     0  2307k      0 --:--:-- --:--:-- --:--:-- 2307k

install for i386

* installing *source* package 'CopyNeutralIMA' ...
** using staged installation
** R
** inst
** byte-compile and prepare package for lazy loading
** help
Loading required namespace: CopyNeutralIMA
*** installing help indices
  converting help for package 'CopyNeutralIMA'
    finding HTML links ... done
    CopyNeutralIMA-package                  html  
REDIRECT:topic	 CopyNeutralIMA -> CopyNeutralIMA-package.html [ SUCCESS ]
REDIRECT:topic	 CopyNeutralIMA-package -> CopyNeutralIMA-package.html [ SUCCESS ]
    getCopyNeutralRGSet                     html  
REDIRECT:topic	 getCopyNeutralRGSet -> getCopyNeutralRGSet.html [ SUCCESS ]
** building package indices
** installing vignettes
** testing if installed package can be loaded from temporary location
** testing if installed package can be loaded from final location
** testing if installed package keeps a record of temporary installation path

install for x64

* installing *source* package 'CopyNeutralIMA' ...
** testing if installed package can be loaded
* MD5 sums
packaged installation of 'CopyNeutralIMA' as CopyNeutralIMA_1.9.0.zip
* DONE (CopyNeutralIMA)
* installing to library 'D:/biocbuild/bbs-3.13-bioc/R/library'
package 'CopyNeutralIMA' successfully unpacked and MD5 sums checked