Back to Multiple platform build/check report for BioC 3.13 experimental data
AB[C]DEFGHIJKLMNOPQRSTUVWXYZ

INSTALL report for CluMSIDdata on riesling1

This page was generated on 2021-01-14 15:59:07 -0500 (Thu, 14 Jan 2021).

TO THE DEVELOPERS/MAINTAINERS OF THE CluMSIDdata PACKAGE: Please make sure to use the following settings in order to reproduce any error or warning you see on this page.
Package 66/385HostnameOS / ArchINSTALLBUILDCHECK
CluMSIDdata 1.7.0
Tobias Depke
Snapshot Date: 2021-01-14 09:00:13 -0500 (Thu, 14 Jan 2021)
URL: https://git.bioconductor.org/packages/CluMSIDdata
Branch: master
Last Commit: 701b60a
Last Changed Date: 2020-10-27 10:28:53 -0500 (Tue, 27 Oct 2020)
malbec2 Linux (Ubuntu 20.04.1 LTS) / x86_64  OK  OK  OK UNNEEDED, same version exists in internal repository
riesling1 Windows Server 2019 Standard / x64 [ OK ] OK  OK 

Summary

Package: CluMSIDdata
Version: 1.7.0
Command: C:\cygwin\bin\curl.exe -O http://172.29.0.4/BBS/3.13/data-experiment/src/contrib/CluMSIDdata_1.7.0.tar.gz && rm -rf CluMSIDdata.buildbin-libdir && mkdir CluMSIDdata.buildbin-libdir && D:\biocbuild\bbs-3.13-bioc\R\bin\R.exe CMD INSTALL --merge-multiarch --build --library=CluMSIDdata.buildbin-libdir CluMSIDdata_1.7.0.tar.gz && D:\biocbuild\bbs-3.13-bioc\R\bin\R.exe CMD INSTALL CluMSIDdata_1.7.0.zip && rm CluMSIDdata_1.7.0.tar.gz CluMSIDdata_1.7.0.zip
StartedAt: 2021-01-14 09:57:42 -0500 (Thu, 14 Jan 2021)
EndedAt: 2021-01-14 10:00:18 -0500 (Thu, 14 Jan 2021)
EllapsedTime: 155.6 seconds
RetCode: 0
Status:  OK  

Command output

##############################################################################
##############################################################################
###
### Running command:
###
###   C:\cygwin\bin\curl.exe -O http://172.29.0.4/BBS/3.13/data-experiment/src/contrib/CluMSIDdata_1.7.0.tar.gz && rm -rf CluMSIDdata.buildbin-libdir && mkdir CluMSIDdata.buildbin-libdir && D:\biocbuild\bbs-3.13-bioc\R\bin\R.exe CMD INSTALL --merge-multiarch --build --library=CluMSIDdata.buildbin-libdir CluMSIDdata_1.7.0.tar.gz && D:\biocbuild\bbs-3.13-bioc\R\bin\R.exe CMD INSTALL CluMSIDdata_1.7.0.zip && rm CluMSIDdata_1.7.0.tar.gz CluMSIDdata_1.7.0.zip
###
##############################################################################
##############################################################################


  % Total    % Received % Xferd  Average Speed   Time    Time     Time  Current
                                 Dload  Upload   Total   Spent    Left  Speed

  0     0    0     0    0     0      0      0 --:--:-- --:--:-- --:--:--     0
  3 48.5M    3 1742k    0     0  2310k      0  0:00:21 --:--:--  0:00:21 2310k
 13 48.5M   13 6548k    0     0  3800k      0  0:00:13  0:00:01  0:00:12 3800k
100 48.5M  100 48.5M    0     0  21.8M      0  0:00:02  0:00:02 --:--:-- 21.8M

install for i386

* installing *source* package 'CluMSIDdata' ...
** using staged installation
** inst
** help
No man pages found in package  'CluMSIDdata' 
*** installing help indices
** building package indices
** testing if installed package can be loaded from temporary location
** testing if installed package can be loaded from final location
** testing if installed package keeps a record of temporary installation path

install for x64

* installing *source* package 'CluMSIDdata' ...
** testing if installed package can be loaded
* MD5 sums
packaged installation of 'CluMSIDdata' as CluMSIDdata_1.7.0.zip
* DONE (CluMSIDdata)
* installing to library 'D:/biocbuild/bbs-3.13-bioc/R/library'
package 'CluMSIDdata' successfully unpacked and MD5 sums checked