Back to Multiple platform build/check report for BioC 3.13 experimental data |
|
This page was generated on 2021-01-21 16:01:25 -0500 (Thu, 21 Jan 2021).
TO THE DEVELOPERS/MAINTAINERS OF THE ChimpHumanBrainData PACKAGE: Please make sure to use the following settings in order to reproduce any error or warning you see on this page. |
Package 58/386 | Hostname | OS / Arch | INSTALL | BUILD | CHECK | ||||||
ChimpHumanBrainData 1.29.0 Sean Davis
| malbec2 | Linux (Ubuntu 20.04.1 LTS) / x86_64 | OK | OK | OK | ![]() | |||||
riesling1 | Windows Server 2019 Standard / x64 | OK | [ OK ] | OK |
Package: ChimpHumanBrainData |
Version: 1.29.0 |
Command: chmod a+r ChimpHumanBrainData -R && D:\biocbuild\bbs-3.13-bioc\R\bin\R.exe CMD build --keep-empty-dirs --no-resave-data ChimpHumanBrainData |
StartedAt: 2021-01-21 10:30:58 -0500 (Thu, 21 Jan 2021) |
EndedAt: 2021-01-21 10:31:55 -0500 (Thu, 21 Jan 2021) |
EllapsedTime: 57.0 seconds |
RetCode: 0 |
Status: OK |
PackageFile: ChimpHumanBrainData_1.29.0.tar.gz |
PackageFileSize: 64.95 MiB |
############################################################################## ############################################################################## ### ### Running command: ### ### chmod a+r ChimpHumanBrainData -R && D:\biocbuild\bbs-3.13-bioc\R\bin\R.exe CMD build --keep-empty-dirs --no-resave-data ChimpHumanBrainData ### ############################################################################## ############################################################################## * checking for file 'ChimpHumanBrainData/DESCRIPTION' ... OK * preparing 'ChimpHumanBrainData': * checking DESCRIPTION meta-information ... OK * installing the package to build vignettes * creating vignettes ... OK * checking for LF line-endings in source and make files and shell scripts * checking for empty or unneeded directories * building 'ChimpHumanBrainData_1.29.0.tar.gz'