Back to Multiple platform build/check report for BioC 3.13 experimental data
AB[C]DEFGHIJKLMNOPQRSTUVWXYZ

INSTALL report for ChIPexoQualExample on riesling1

This page was generated on 2021-03-01 15:56:10 -0500 (Mon, 01 Mar 2021).

To the developers/maintainers of the ChIPexoQualExample package:
Please make sure to use the following settings in order to reproduce any error or warning you see on this page.
Package 60/391HostnameOS / ArchINSTALLBUILDCHECK
ChIPexoQualExample 1.15.0
Rene Welch
Snapshot Date: 2021-03-01 09:00:05 -0500 (Mon, 01 Mar 2021)
URL: https://git.bioconductor.org/packages/ChIPexoQualExample
Branch: master
Last Commit: dbc6d72
Last Changed Date: 2020-10-27 10:22:29 -0500 (Tue, 27 Oct 2020)
rex3Linux (Ubuntu 20.04.2 LTS) / x86_64  OK    OK    OK  UNNEEDED, same version exists in internal repository
riesling1Windows Server 2019 Standard / x64  OK    OK    OK  

Summary

Package: ChIPexoQualExample
Version: 1.15.0
Command: C:\cygwin\bin\curl.exe -O http://155.52.173.35/BBS/3.13/data-experiment/src/contrib/ChIPexoQualExample_1.15.0.tar.gz && rm -rf ChIPexoQualExample.buildbin-libdir && mkdir ChIPexoQualExample.buildbin-libdir && D:\biocbuild\bbs-3.13-bioc\R\bin\R.exe CMD INSTALL --merge-multiarch --build --library=ChIPexoQualExample.buildbin-libdir ChIPexoQualExample_1.15.0.tar.gz && D:\biocbuild\bbs-3.13-bioc\R\bin\R.exe CMD INSTALL ChIPexoQualExample_1.15.0.zip && rm ChIPexoQualExample_1.15.0.tar.gz ChIPexoQualExample_1.15.0.zip
StartedAt: 2021-03-01 10:00:01 -0500 (Mon, 01 Mar 2021)
EndedAt: 2021-03-01 10:01:43 -0500 (Mon, 01 Mar 2021)
EllapsedTime: 102.3 seconds
RetCode: 0
Status:   OK   

Command output

##############################################################################
##############################################################################
###
### Running command:
###
###   C:\cygwin\bin\curl.exe -O http://155.52.173.35/BBS/3.13/data-experiment/src/contrib/ChIPexoQualExample_1.15.0.tar.gz && rm -rf ChIPexoQualExample.buildbin-libdir && mkdir ChIPexoQualExample.buildbin-libdir && D:\biocbuild\bbs-3.13-bioc\R\bin\R.exe CMD INSTALL --merge-multiarch --build --library=ChIPexoQualExample.buildbin-libdir ChIPexoQualExample_1.15.0.tar.gz && D:\biocbuild\bbs-3.13-bioc\R\bin\R.exe CMD INSTALL ChIPexoQualExample_1.15.0.zip && rm ChIPexoQualExample_1.15.0.tar.gz ChIPexoQualExample_1.15.0.zip
###
##############################################################################
##############################################################################


  % Total    % Received % Xferd  Average Speed   Time    Time     Time  Current
                                 Dload  Upload   Total   Spent    Left  Speed

  0     0    0     0    0     0      0      0 --:--:-- --:--:-- --:--:--     0
  0  152M    0  409k    0     0   875k      0  0:02:57 --:--:--  0:02:57  873k
  9  152M    9 13.8M    0     0  10.6M      0  0:00:14  0:00:01  0:00:13 10.6M
 18  152M   18 28.3M    0     0  12.3M      0  0:00:12  0:00:02  0:00:10 12.3M
 24  152M   24 37.9M    0     0  11.5M      0  0:00:13  0:00:03  0:00:10 11.5M
 30  152M   30 45.6M    0     0  10.6M      0  0:00:14  0:00:04  0:00:10 10.6M
 34  152M   34 53.1M    0     0  10.0M      0  0:00:15  0:00:05  0:00:10 10.9M
 39  152M   39 59.6M    0     0  9699k      0  0:00:16  0:00:06  0:00:10 9382k
 44  152M   44 67.4M    0     0  9468k      0  0:00:16  0:00:07  0:00:09 8020k
 49  152M   49 75.5M    0     0  9324k      0  0:00:16  0:00:08  0:00:08 7698k
 52  152M   52 79.8M    0     0  8788k      0  0:00:17  0:00:09  0:00:08 6989k
 56  152M   56 85.3M    0     0  8484k      0  0:00:18  0:00:10  0:00:08 6585k
 60  152M   60 91.7M    0     0  8314k      0  0:00:18  0:00:11  0:00:07 6573k
 65  152M   65 99.8M    0     0  8308k      0  0:00:18  0:00:12  0:00:06 6616k
 70  152M   70  107M    0     0  8303k      0  0:00:18  0:00:13  0:00:05 6612k
 74  152M   74  113M    0     0  8100k      0  0:00:19  0:00:14  0:00:05 6826k
 78  152M   78  119M    0     0  8015k      0  0:00:19  0:00:15  0:00:04 7052k
 82  152M   82  124M    0     0  7840k      0  0:00:19  0:00:16  0:00:03 6769k
 84  152M   84  128M    0     0  7620k      0  0:00:20  0:00:17  0:00:03 5927k
 88  152M   88  134M    0     0  7509k      0  0:00:20  0:00:18  0:00:02 5399k
 92  152M   92  140M    0     0  7452k      0  0:00:20  0:00:19  0:00:01 5588k
 94  152M   94  144M    0     0  7273k      0  0:00:21  0:00:20  0:00:01 4999k
 97  152M   97  147M    0     0  7093k      0  0:00:21  0:00:21 --:--:-- 4668k
 99  152M   99  150M    0     0  6922k      0  0:00:22  0:00:22 --:--:-- 4507k
100  152M  100  152M    0     0  6899k      0  0:00:22  0:00:22 --:--:-- 4278k

install for i386

* installing *source* package 'ChIPexoQualExample' ...
** using staged installation
** R
** inst
** byte-compile and prepare package for lazy loading
** help
*** installing help indices
  converting help for package 'ChIPexoQualExample'
    finding HTML links ... done
    extdata                                 html  
REDIRECT:topic	 extdata -> extdata.html [ SUCCESS ]
** building package indices
** installing vignettes
** testing if installed package can be loaded from temporary location
** testing if installed package can be loaded from final location
** testing if installed package keeps a record of temporary installation path

install for x64

* installing *source* package 'ChIPexoQualExample' ...
** testing if installed package can be loaded
* MD5 sums
packaged installation of 'ChIPexoQualExample' as ChIPexoQualExample_1.15.0.zip
* DONE (ChIPexoQualExample)
* installing to library 'D:/biocbuild/bbs-3.13-bioc/R/library'
package 'ChIPexoQualExample' successfully unpacked and MD5 sums checked