Back to Multiple platform build/check report for BioC 3.13 experimental data
AB[C]DEFGHIJKLMNOPQRSTUVWXYZ

CHECK report for ChIPexoQualExample on riesling1

This page was generated on 2021-01-21 16:01:26 -0500 (Thu, 21 Jan 2021).

TO THE DEVELOPERS/MAINTAINERS OF THE ChIPexoQualExample PACKAGE: Please make sure to use the following settings in order to reproduce any error or warning you see on this page.
Package 60/386HostnameOS / ArchINSTALLBUILDCHECK
ChIPexoQualExample 1.15.0
Rene Welch
Snapshot Date: 2021-01-21 09:00:14 -0500 (Thu, 21 Jan 2021)
URL: https://git.bioconductor.org/packages/ChIPexoQualExample
Branch: master
Last Commit: dbc6d72
Last Changed Date: 2020-10-27 10:22:29 -0500 (Tue, 27 Oct 2020)
malbec2 Linux (Ubuntu 20.04.1 LTS) / x86_64  OK  OK  OK UNNEEDED, same version exists in internal repository
riesling1 Windows Server 2019 Standard / x64  OK  OK [ OK ]

Summary

Package: ChIPexoQualExample
Version: 1.15.0
Command: D:\biocbuild\bbs-3.13-bioc\R\bin\R.exe CMD check --force-multiarch --install=check:ChIPexoQualExample.install-out.txt --library=D:\biocbuild\bbs-3.13-bioc\R\library --no-vignettes --timings ChIPexoQualExample_1.15.0.tar.gz
StartedAt: 2021-01-21 11:15:17 -0500 (Thu, 21 Jan 2021)
EndedAt: 2021-01-21 11:15:38 -0500 (Thu, 21 Jan 2021)
EllapsedTime: 20.6 seconds
RetCode: 0
Status:  OK  
CheckDir: ChIPexoQualExample.Rcheck
Warnings: 0

Command output

##############################################################################
##############################################################################
###
### Running command:
###
###   D:\biocbuild\bbs-3.13-bioc\R\bin\R.exe CMD check --force-multiarch --install=check:ChIPexoQualExample.install-out.txt --library=D:\biocbuild\bbs-3.13-bioc\R\library --no-vignettes --timings ChIPexoQualExample_1.15.0.tar.gz
###
##############################################################################
##############################################################################


* using log directory 'D:/biocbuild/bbs-3.13-data-experiment/meat/ChIPexoQualExample.Rcheck'
* using R Under development (unstable) (2020-12-30 r79736)
* using platform: x86_64-w64-mingw32 (64-bit)
* using session charset: ISO8859-1
* using option '--no-vignettes'
* checking for file 'ChIPexoQualExample/DESCRIPTION' ... OK
* checking extension type ... Package
* this is package 'ChIPexoQualExample' version '1.15.0'
* checking package namespace information ... OK
* checking package dependencies ... OK
* checking if this is a source package ... OK
* checking if there is a namespace ... OK
* checking for hidden files and directories ... OK
* checking for portable file names ... OK
* checking whether package 'ChIPexoQualExample' can be installed ... OK
* checking installed package size ... NOTE
  installed size is 152.9Mb
  sub-directories of 1Mb or more:
    extdata  152.8Mb
* checking package directory ... OK
* checking 'build' directory ... OK
* checking DESCRIPTION meta-information ... OK
* checking top-level files ... OK
* checking for left-over files ... OK
* checking index information ... OK
* checking package subdirectories ... OK
* checking R files for non-ASCII characters ... OK
* checking R files for syntax errors ... OK
* loading checks for arch 'i386'
** checking whether the package can be loaded ... OK
** checking whether the package can be loaded with stated dependencies ... OK
** checking whether the package can be unloaded cleanly ... OK
** checking whether the namespace can be loaded with stated dependencies ... OK
** checking whether the namespace can be unloaded cleanly ... OK
* loading checks for arch 'x64'
** checking whether the package can be loaded ... OK
** checking whether the package can be loaded with stated dependencies ... OK
** checking whether the package can be unloaded cleanly ... OK
** checking whether the namespace can be loaded with stated dependencies ... OK
** checking whether the namespace can be unloaded cleanly ... OK
* checking dependencies in R code ... OK
* checking S3 generic/method consistency ... OK
* checking replacement functions ... OK
* checking foreign function calls ... OK
* checking R code for possible problems ... OK
* checking Rd files ... OK
* checking Rd metadata ... OK
* checking Rd cross-references ... OK
* checking for missing documentation entries ... OK
* checking for code/documentation mismatches ... OK
* checking Rd \usage sections ... OK
* checking Rd contents ... OK
* checking for unstated dependencies in examples ... OK
* checking files in 'vignettes' ... OK
* checking examples ... NONE
* checking for unstated dependencies in vignettes ... OK
* checking package vignettes in 'inst/doc' ... OK
* checking running R code from vignettes ... SKIPPED
* checking re-building of vignette outputs ... SKIPPED
* checking PDF version of manual ... OK
* DONE

Status: 1 NOTE
See
  'D:/biocbuild/bbs-3.13-data-experiment/meat/ChIPexoQualExample.Rcheck/00check.log'
for details.



Installation output

ChIPexoQualExample.Rcheck/00install.out

##############################################################################
##############################################################################
###
### Running command:
###
###   C:\cygwin\bin\curl.exe -O http://172.29.0.4/BBS/3.13/data-experiment/src/contrib/ChIPexoQualExample_1.15.0.tar.gz && rm -rf ChIPexoQualExample.buildbin-libdir && mkdir ChIPexoQualExample.buildbin-libdir && D:\biocbuild\bbs-3.13-bioc\R\bin\R.exe CMD INSTALL --merge-multiarch --build --library=ChIPexoQualExample.buildbin-libdir ChIPexoQualExample_1.15.0.tar.gz && D:\biocbuild\bbs-3.13-bioc\R\bin\R.exe CMD INSTALL ChIPexoQualExample_1.15.0.zip && rm ChIPexoQualExample_1.15.0.tar.gz ChIPexoQualExample_1.15.0.zip
###
##############################################################################
##############################################################################


  % Total    % Received % Xferd  Average Speed   Time    Time     Time  Current
                                 Dload  Upload   Total   Spent    Left  Speed

  0     0    0     0    0     0      0      0 --:--:-- --:--:-- --:--:--     0
  0  152M    0  361k    0     0   350k      0  0:07:24  0:00:01  0:07:23  350k
  0  152M    0 1479k    0     0   739k      0  0:03:30  0:00:02  0:03:28  739k
  5  152M    5 8011k    0     0  2609k      0  0:00:59  0:00:03  0:00:56 2609k
  5  152M    5 8476k    0     0  2153k      0  0:01:12  0:00:03  0:01:09 2152k
 21  152M   21 32.4M    0     0  6862k      0  0:00:22  0:00:04  0:00:18 6860k
 47  152M   47 72.4M    0     0  12.3M      0  0:00:12  0:00:05  0:00:07 14.9M
 73  152M   73  112M    0     0  16.1M      0  0:00:09  0:00:06  0:00:03 22.4M
 94  152M   94  144M    0     0  18.4M      0  0:00:08  0:00:07  0:00:01 28.6M
100  152M  100  152M    0     0  19.1M      0  0:00:07  0:00:07 --:--:-- 35.9M

install for i386

* installing *source* package 'ChIPexoQualExample' ...
** using staged installation
** R
** inst
** byte-compile and prepare package for lazy loading
** help
*** installing help indices
  converting help for package 'ChIPexoQualExample'
    finding HTML links ... done
    extdata                                 html  
REDIRECT:topic	 extdata -> extdata.html [ SUCCESS ]
** building package indices
** installing vignettes
** testing if installed package can be loaded from temporary location
** testing if installed package can be loaded from final location
** testing if installed package keeps a record of temporary installation path

install for x64

* installing *source* package 'ChIPexoQualExample' ...
** testing if installed package can be loaded
* MD5 sums
packaged installation of 'ChIPexoQualExample' as ChIPexoQualExample_1.15.0.zip
* DONE (ChIPexoQualExample)
* installing to library 'D:/biocbuild/bbs-3.13-bioc/R/library'
package 'ChIPexoQualExample' successfully unpacked and MD5 sums checked

Tests output


Example timings