Back to Multiple platform build/check report for BioC 3.13 experimental data
AB[C]DEFGHIJKLMNOPQRSTUVWXYZ

BUILD report for ChIPexoQualExample on riesling1

This page was generated on 2021-01-18 15:58:46 -0500 (Mon, 18 Jan 2021).

TO THE DEVELOPERS/MAINTAINERS OF THE ChIPexoQualExample PACKAGE: Please make sure to use the following settings in order to reproduce any error or warning you see on this page.
Package 60/385HostnameOS / ArchINSTALLBUILDCHECK
ChIPexoQualExample 1.15.0
Rene Welch
Snapshot Date: 2021-01-18 09:00:15 -0500 (Mon, 18 Jan 2021)
URL: https://git.bioconductor.org/packages/ChIPexoQualExample
Branch: master
Last Commit: dbc6d72
Last Changed Date: 2020-10-27 10:22:29 -0500 (Tue, 27 Oct 2020)
malbec2 Linux (Ubuntu 20.04.1 LTS) / x86_64  OK  OK  OK UNNEEDED, same version exists in internal repository
riesling1 Windows Server 2019 Standard / x64  OK [ OK ] OK 

Summary

Package: ChIPexoQualExample
Version: 1.15.0
Command: chmod a+r ChIPexoQualExample -R && D:\biocbuild\bbs-3.13-bioc\R\bin\R.exe CMD build --keep-empty-dirs --no-resave-data ChIPexoQualExample
StartedAt: 2021-01-18 10:31:34 -0500 (Mon, 18 Jan 2021)
EndedAt: 2021-01-18 10:32:22 -0500 (Mon, 18 Jan 2021)
EllapsedTime: 48.0 seconds
RetCode: 0
Status:  OK  
PackageFile: ChIPexoQualExample_1.15.0.tar.gz
PackageFileSize: 152.3 MiB

Command output

##############################################################################
##############################################################################
###
### Running command:
###
###   chmod a+r ChIPexoQualExample -R && D:\biocbuild\bbs-3.13-bioc\R\bin\R.exe CMD build --keep-empty-dirs --no-resave-data ChIPexoQualExample
###
##############################################################################
##############################################################################


* checking for file 'ChIPexoQualExample/DESCRIPTION' ... OK
* preparing 'ChIPexoQualExample':
* checking DESCRIPTION meta-information ... OK
* installing the package to build vignettes
* creating vignettes ... OK
* checking for LF line-endings in source and make files and shell scripts
* checking for empty or unneeded directories
* building 'ChIPexoQualExample_1.15.0.tar.gz'