Back to Multiple platform build/check report for BioC 3.13 experimental data
AB[C]DEFGHIJKLMNOPQRSTUVWXYZ

INSTALL report for ChAMPdata on riesling1

This page was generated on 2021-01-18 15:58:45 -0500 (Mon, 18 Jan 2021).

TO THE DEVELOPERS/MAINTAINERS OF THE ChAMPdata PACKAGE: Please make sure to use the following settings in order to reproduce any error or warning you see on this page.
Package 56/385HostnameOS / ArchINSTALLBUILDCHECK
ChAMPdata 2.23.0
Yuan Tian
Snapshot Date: 2021-01-18 09:00:15 -0500 (Mon, 18 Jan 2021)
URL: https://git.bioconductor.org/packages/ChAMPdata
Branch: master
Last Commit: 9095bbe
Last Changed Date: 2020-10-27 10:05:58 -0500 (Tue, 27 Oct 2020)
malbec2 Linux (Ubuntu 20.04.1 LTS) / x86_64  OK  OK  OK UNNEEDED, same version exists in internal repository
riesling1 Windows Server 2019 Standard / x64 [ OK ] OK  OK 

Summary

Package: ChAMPdata
Version: 2.23.0
Command: C:\cygwin\bin\curl.exe -O http://172.29.0.4/BBS/3.13/data-experiment/src/contrib/ChAMPdata_2.23.0.tar.gz && rm -rf ChAMPdata.buildbin-libdir && mkdir ChAMPdata.buildbin-libdir && D:\biocbuild\bbs-3.13-bioc\R\bin\R.exe CMD INSTALL --merge-multiarch --build --library=ChAMPdata.buildbin-libdir ChAMPdata_2.23.0.tar.gz && D:\biocbuild\bbs-3.13-bioc\R\bin\R.exe CMD INSTALL ChAMPdata_2.23.0.zip && rm ChAMPdata_2.23.0.tar.gz ChAMPdata_2.23.0.zip
StartedAt: 2021-01-18 10:07:31 -0500 (Mon, 18 Jan 2021)
EndedAt: 2021-01-18 10:10:07 -0500 (Mon, 18 Jan 2021)
EllapsedTime: 155.9 seconds
RetCode: 0
Status:  OK  

Command output

##############################################################################
##############################################################################
###
### Running command:
###
###   C:\cygwin\bin\curl.exe -O http://172.29.0.4/BBS/3.13/data-experiment/src/contrib/ChAMPdata_2.23.0.tar.gz && rm -rf ChAMPdata.buildbin-libdir && mkdir ChAMPdata.buildbin-libdir && D:\biocbuild\bbs-3.13-bioc\R\bin\R.exe CMD INSTALL --merge-multiarch --build --library=ChAMPdata.buildbin-libdir ChAMPdata_2.23.0.tar.gz && D:\biocbuild\bbs-3.13-bioc\R\bin\R.exe CMD INSTALL ChAMPdata_2.23.0.zip && rm ChAMPdata_2.23.0.tar.gz ChAMPdata_2.23.0.zip
###
##############################################################################
##############################################################################


  % Total    % Received % Xferd  Average Speed   Time    Time     Time  Current
                                 Dload  Upload   Total   Spent    Left  Speed

  0     0    0     0    0     0      0      0 --:--:-- --:--:-- --:--:--     0
  0  679M    0 1036k    0     0  1929k      0  0:06:00 --:--:--  0:06:00 1926k
  5  679M    5 38.9M    0     0  25.0M      0  0:00:27  0:00:01  0:00:26 25.0M
 14  679M   14 96.8M    0     0  38.3M      0  0:00:17  0:00:02  0:00:15 38.3M
 25  679M   25  170M    0     0  48.2M      0  0:00:14  0:00:03  0:00:11 48.1M
 31  679M   31  213M    0     0  47.1M      0  0:00:14  0:00:04  0:00:10 47.0M
 35  679M   35  241M    0     0  43.6M      0  0:00:15  0:00:05  0:00:10 48.1M
 46  679M   46  317M    0     0  48.1M      0  0:00:14  0:00:06  0:00:08 55.2M
 57  679M   57  387M    0     0  51.5M      0  0:00:13  0:00:07  0:00:06 58.2M
 70  679M   70  479M    0     0  56.2M      0  0:00:12  0:00:08  0:00:04 61.9M
 79  679M   79  538M    0     0  56.5M      0  0:00:12  0:00:09  0:00:03 65.1M
 79  679M   79  541M    0     0  51.3M      0  0:00:13  0:00:10  0:00:03 59.6M
 93  679M   93  638M    0     0  55.4M      0  0:00:12  0:00:11  0:00:01 65.0M
100  679M  100  679M    0     0  56.7M      0  0:00:11  0:00:11 --:--:-- 65.5M

install for i386

* installing *source* package 'ChAMPdata' ...
** using staged installation
** data
** inst
** help
*** installing help indices
  converting help for package 'ChAMPdata'
    finding HTML links ... done
    Anno450K                                html  
REDIRECT:topic	 Anno450K -> Anno450K.html [ SUCCESS ]
    AnnoEPIC                                html  
REDIRECT:topic	 AnnoEPIC -> AnnoEPIC.html [ SUCCESS ]
    CellTypeMeans27K                        html  
REDIRECT:topic	 CellTypeMeans27K -> CellTypeMeans27K.html [ SUCCESS ]
    CellTypeMeans450K                       html  
REDIRECT:topic	 CellTypeMeans450K -> CellTypeMeans450K.html [ SUCCESS ]
    ChAMPdata-package                       html  
REDIRECT:topic	 ChAMPdata-package -> ChAMPdata-package.html [ SUCCESS ]
REDIRECT:topic	 ChAMPdata -> ChAMPdata-package.html [ SUCCESS ]
    ControlProbes450K                       html  
REDIRECT:topic	 ControlProbes450K -> ControlProbes450K.html [ SUCCESS ]
    ControlProbesEPIC                       html  
REDIRECT:topic	 ControlProbesEPIC -> ControlProbesEPIC.html [ SUCCESS ]
    EPIC.manifest.hg19                      html  
REDIRECT:topic	 EPIC.manifest.hg19 -> EPIC.manifest.hg19.html [ SUCCESS ]
    EPIC.manifest.pop.hg19                  html  
REDIRECT:topic	 EPIC.manifest.pop.hg19 -> EPIC.manifest.pop.hg19.html [ SUCCESS ]
    EPICSimData                             html  
REDIRECT:topic	 EPICSimData -> EPICSimData.html [ SUCCESS ]
    MatchGeneName                           html  
REDIRECT:topic	 MatchGeneName -> MatchGeneName.html [ SUCCESS ]
    PathwayList                             html  
REDIRECT:topic	 PathwayList -> PathwayList.html [ SUCCESS ]
    bloodCtl                                html  
REDIRECT:topic	 bloodCtl -> bloodCtl.html [ SUCCESS ]
    hm450.manifest.hg19                     html  
REDIRECT:topic	 hm450.manifest.hg19 -> hm450.manifest.hg19.html [ SUCCESS ]
    hm450.manifest.pop.hg19                 html  
REDIRECT:topic	 hm450.manifest.pop.hg19 -> hm450.manifest.pop.hg19.html [ SUCCESS ]
    hprdAsigH                               html  
REDIRECT:topic	 hprdAsigH -> hprdAsigH.html [ SUCCESS ]
    illumina450Gr                           html  
REDIRECT:topic	 illumina450Gr -> illumina450Gr.html [ SUCCESS ]
    illuminaEPICGr                          html  
REDIRECT:topic	 illuminaEPICGr -> illuminaEPICGr.html [ SUCCESS ]
    multi.hit                               html  
REDIRECT:topic	 multi.hit -> multi.hit.html [ SUCCESS ]
    probe.features                          html  
REDIRECT:topic	 probe.features -> probe.features.html [ SUCCESS ]
    probe.features.epic                     html  
REDIRECT:topic	 probe.features.epic -> probe.features.epic.html [ SUCCESS ]
    probeInfoALL.epic.lv                    html  
REDIRECT:topic	 probeInfoALL.epic.lv -> probeInfoALL.epic.lv.html [ SUCCESS ]
    probeInfoALL.lv                         html  
REDIRECT:topic	 probeInfoALL.lv -> probeInfoALL.lv.html [ SUCCESS ]
    snp.hit                                 html  
REDIRECT:topic	 snp.hit -> snp.hit.html [ SUCCESS ]
    testDataSet                             html  
REDIRECT:topic	 testDataSet -> testDataSet.html [ SUCCESS ]
** building package indices
** testing if installed package can be loaded from temporary location
** testing if installed package can be loaded from final location
** testing if installed package keeps a record of temporary installation path

install for x64

* installing *source* package 'ChAMPdata' ...
** testing if installed package can be loaded
* MD5 sums
packaged installation of 'ChAMPdata' as ChAMPdata_2.23.0.zip
* DONE (ChAMPdata)
* installing to library 'D:/biocbuild/bbs-3.13-bioc/R/library'
package 'ChAMPdata' successfully unpacked and MD5 sums checked