Back to Multiple platform build/check report for BioC 3.13 experimental data
AB[C]DEFGHIJKLMNOPQRSTUVWXYZ

CHECK report for CellMapperData on riesling1

This page was generated on 2021-01-14 15:59:07 -0500 (Thu, 14 Jan 2021).

TO THE DEVELOPERS/MAINTAINERS OF THE CellMapperData PACKAGE: Please make sure to use the following settings in order to reproduce any error or warning you see on this page.
Package 51/385HostnameOS / ArchINSTALLBUILDCHECK
CellMapperData 1.17.0
Brad Nelms
Snapshot Date: 2021-01-14 09:00:13 -0500 (Thu, 14 Jan 2021)
URL: https://git.bioconductor.org/packages/CellMapperData
Branch: master
Last Commit: 95f5e46
Last Changed Date: 2020-10-27 10:21:34 -0500 (Tue, 27 Oct 2020)
malbec2 Linux (Ubuntu 20.04.1 LTS) / x86_64  OK  OK  OK UNNEEDED, same version exists in internal repository
riesling1 Windows Server 2019 Standard / x64  OK  OK [ OK ]

Summary

Package: CellMapperData
Version: 1.17.0
Command: D:\biocbuild\bbs-3.13-bioc\R\bin\R.exe CMD check --force-multiarch --install=check:CellMapperData.install-out.txt --library=D:\biocbuild\bbs-3.13-bioc\R\library --no-vignettes --timings CellMapperData_1.17.0.tar.gz
StartedAt: 2021-01-14 11:09:35 -0500 (Thu, 14 Jan 2021)
EndedAt: 2021-01-14 11:10:25 -0500 (Thu, 14 Jan 2021)
EllapsedTime: 49.9 seconds
RetCode: 0
Status:  OK  
CheckDir: CellMapperData.Rcheck
Warnings: 0

Command output

##############################################################################
##############################################################################
###
### Running command:
###
###   D:\biocbuild\bbs-3.13-bioc\R\bin\R.exe CMD check --force-multiarch --install=check:CellMapperData.install-out.txt --library=D:\biocbuild\bbs-3.13-bioc\R\library --no-vignettes --timings CellMapperData_1.17.0.tar.gz
###
##############################################################################
##############################################################################


* using log directory 'D:/biocbuild/bbs-3.13-data-experiment/meat/CellMapperData.Rcheck'
* using R Under development (unstable) (2020-12-30 r79736)
* using platform: x86_64-w64-mingw32 (64-bit)
* using session charset: ISO8859-1
* using option '--no-vignettes'
* checking for file 'CellMapperData/DESCRIPTION' ... OK
* checking extension type ... Package
* this is package 'CellMapperData' version '1.17.0'
* checking package namespace information ... OK
* checking package dependencies ... OK
* checking if this is a source package ... OK
* checking if there is a namespace ... OK
* checking for hidden files and directories ... OK
* checking for portable file names ... OK
* checking whether package 'CellMapperData' can be installed ... OK
* checking installed package size ... OK
* checking package directory ... OK
* checking 'build' directory ... OK
* checking DESCRIPTION meta-information ... OK
* checking top-level files ... OK
* checking for left-over files ... OK
* checking index information ... OK
* checking package subdirectories ... OK
* loading checks for arch 'i386'
** checking whether the package can be loaded ... OK
** checking whether the package can be loaded with stated dependencies ... OK
** checking whether the package can be unloaded cleanly ... OK
** checking whether the namespace can be loaded with stated dependencies ... OK
** checking whether the namespace can be unloaded cleanly ... OK
* loading checks for arch 'x64'
** checking whether the package can be loaded ... OK
** checking whether the package can be loaded with stated dependencies ... OK
** checking whether the package can be unloaded cleanly ... OK
** checking whether the namespace can be loaded with stated dependencies ... OK
** checking whether the namespace can be unloaded cleanly ... OK
* checking Rd files ... OK
* checking Rd metadata ... OK
* checking Rd cross-references ... OK
* checking for code/documentation mismatches ... OK
* checking Rd \usage sections ... OK
* checking Rd contents ... OK
* checking for unstated dependencies in examples ... OK
* checking files in 'vignettes' ... OK
* checking examples ...
** running examples for arch 'i386' ... OK
** running examples for arch 'x64' ... OK
* checking for unstated dependencies in vignettes ... OK
* checking package vignettes in 'inst/doc' ... OK
* checking running R code from vignettes ... SKIPPED
* checking re-building of vignette outputs ... SKIPPED
* checking PDF version of manual ... OK
* DONE

Status: OK


Installation output

CellMapperData.Rcheck/00install.out

##############################################################################
##############################################################################
###
### Running command:
###
###   C:\cygwin\bin\curl.exe -O http://172.29.0.4/BBS/3.13/data-experiment/src/contrib/CellMapperData_1.17.0.tar.gz && rm -rf CellMapperData.buildbin-libdir && mkdir CellMapperData.buildbin-libdir && D:\biocbuild\bbs-3.13-bioc\R\bin\R.exe CMD INSTALL --merge-multiarch --build --library=CellMapperData.buildbin-libdir CellMapperData_1.17.0.tar.gz && D:\biocbuild\bbs-3.13-bioc\R\bin\R.exe CMD INSTALL CellMapperData_1.17.0.zip && rm CellMapperData_1.17.0.tar.gz CellMapperData_1.17.0.zip
###
##############################################################################
##############################################################################


  % Total    % Received % Xferd  Average Speed   Time    Time     Time  Current
                                 Dload  Upload   Total   Spent    Left  Speed

  0     0    0     0    0     0      0      0 --:--:-- --:--:-- --:--:--     0
100  122k  100  122k    0     0   303k      0 --:--:-- --:--:-- --:--:--  304k

install for i386

* installing *source* package 'CellMapperData' ...
** using staged installation
** inst
** help
*** installing help indices
  converting help for package 'CellMapperData'
    finding HTML links ... done
    CellMapperData-package                  html  
REDIRECT:topic	 CellMapperData-package -> CellMapperData-package.html [ SUCCESS ]
REDIRECT:topic	 CellMapperData -> CellMapperData-package.html [ SUCCESS ]
** building package indices
** installing vignettes
** testing if installed package can be loaded from temporary location
Warning: replacing previous import 'stats::sd' by 'S4Vectors::sd' when loading 'CellMapper'
Warning: replacing previous import 'stats::var' by 'S4Vectors::var' when loading 'CellMapper'
** testing if installed package can be loaded from final location
Warning: replacing previous import 'stats::sd' by 'S4Vectors::sd' when loading 'CellMapper'
Warning: replacing previous import 'stats::var' by 'S4Vectors::var' when loading 'CellMapper'
** testing if installed package keeps a record of temporary installation path

install for x64

* installing *source* package 'CellMapperData' ...
** testing if installed package can be loaded
Warning: replacing previous import 'stats::sd' by 'S4Vectors::sd' when loading 'CellMapper'
Warning: replacing previous import 'stats::var' by 'S4Vectors::var' when loading 'CellMapper'
* MD5 sums
packaged installation of 'CellMapperData' as CellMapperData_1.17.0.zip
* DONE (CellMapperData)
* installing to library 'D:/biocbuild/bbs-3.13-bioc/R/library'
package 'CellMapperData' successfully unpacked and MD5 sums checked

Tests output


Example timings

CellMapperData.Rcheck/examples_i386/CellMapperData-Ex.timings

nameusersystemelapsed
CellMapperData-package1.060.151.70

CellMapperData.Rcheck/examples_x64/CellMapperData-Ex.timings

nameusersystemelapsed
CellMapperData-package1.110.181.66