Back to Multiple platform build/check report for BioC 3.13 experimental data
AB[C]DEFGHIJKLMNOPQRSTUVWXYZ

BUILD report for CellMapperData on riesling1

This page was generated on 2021-01-18 15:58:45 -0500 (Mon, 18 Jan 2021).

TO THE DEVELOPERS/MAINTAINERS OF THE CellMapperData PACKAGE: Please make sure to use the following settings in order to reproduce any error or warning you see on this page.
Package 51/385HostnameOS / ArchINSTALLBUILDCHECK
CellMapperData 1.17.0
Brad Nelms
Snapshot Date: 2021-01-18 09:00:15 -0500 (Mon, 18 Jan 2021)
URL: https://git.bioconductor.org/packages/CellMapperData
Branch: master
Last Commit: 95f5e46
Last Changed Date: 2020-10-27 10:21:34 -0500 (Tue, 27 Oct 2020)
malbec2 Linux (Ubuntu 20.04.1 LTS) / x86_64  OK  OK  OK UNNEEDED, same version exists in internal repository
riesling1 Windows Server 2019 Standard / x64  OK [ OK ] OK 

Summary

Package: CellMapperData
Version: 1.17.0
Command: chmod a+r CellMapperData -R && D:\biocbuild\bbs-3.13-bioc\R\bin\R.exe CMD build --keep-empty-dirs --no-resave-data CellMapperData
StartedAt: 2021-01-18 10:29:58 -0500 (Mon, 18 Jan 2021)
EndedAt: 2021-01-18 10:30:21 -0500 (Mon, 18 Jan 2021)
EllapsedTime: 23.2 seconds
RetCode: 0
Status:  OK  
PackageFile: CellMapperData_1.17.0.tar.gz
PackageFileSize: 140.3 KiB

Command output

##############################################################################
##############################################################################
###
### Running command:
###
###   chmod a+r CellMapperData -R && D:\biocbuild\bbs-3.13-bioc\R\bin\R.exe CMD build --keep-empty-dirs --no-resave-data CellMapperData
###
##############################################################################
##############################################################################


* checking for file 'CellMapperData/DESCRIPTION' ... OK
* preparing 'CellMapperData':
* checking DESCRIPTION meta-information ... OK
* installing the package to build vignettes
* creating vignettes ... OK
* checking for LF line-endings in source and make files and shell scripts
* checking for empty or unneeded directories
* building 'CellMapperData_1.17.0.tar.gz'