Back to Multiple platform build/check report for BioC 3.13 experimental data
AB[C]DEFGHIJKLMNOPQRSTUVWXYZ

INSTALL report for CardinalWorkflows on riesling1

This page was generated on 2021-01-14 15:59:06 -0500 (Thu, 14 Jan 2021).

TO THE DEVELOPERS/MAINTAINERS OF THE CardinalWorkflows PACKAGE: Please make sure to use the following settings in order to reproduce any error or warning you see on this page.
Package 45/385HostnameOS / ArchINSTALLBUILDCHECK
CardinalWorkflows 1.23.0
Kylie A. Bemis
Snapshot Date: 2021-01-14 09:00:13 -0500 (Thu, 14 Jan 2021)
URL: https://git.bioconductor.org/packages/CardinalWorkflows
Branch: master
Last Commit: eb287ce
Last Changed Date: 2020-10-27 10:11:32 -0500 (Tue, 27 Oct 2020)
malbec2 Linux (Ubuntu 20.04.1 LTS) / x86_64  OK  OK  OK UNNEEDED, same version exists in internal repository
riesling1 Windows Server 2019 Standard / x64 [ OK ] OK  OK 

Summary

Package: CardinalWorkflows
Version: 1.23.0
Command: C:\cygwin\bin\curl.exe -O http://172.29.0.4/BBS/3.13/data-experiment/src/contrib/CardinalWorkflows_1.23.0.tar.gz && rm -rf CardinalWorkflows.buildbin-libdir && mkdir CardinalWorkflows.buildbin-libdir && D:\biocbuild\bbs-3.13-bioc\R\bin\R.exe CMD INSTALL --merge-multiarch --build --library=CardinalWorkflows.buildbin-libdir CardinalWorkflows_1.23.0.tar.gz && D:\biocbuild\bbs-3.13-bioc\R\bin\R.exe CMD INSTALL CardinalWorkflows_1.23.0.zip && rm CardinalWorkflows_1.23.0.tar.gz CardinalWorkflows_1.23.0.zip
StartedAt: 2021-01-14 10:08:43 -0500 (Thu, 14 Jan 2021)
EndedAt: 2021-01-14 10:09:19 -0500 (Thu, 14 Jan 2021)
EllapsedTime: 35.8 seconds
RetCode: 0
Status:  OK  

Command output

##############################################################################
##############################################################################
###
### Running command:
###
###   C:\cygwin\bin\curl.exe -O http://172.29.0.4/BBS/3.13/data-experiment/src/contrib/CardinalWorkflows_1.23.0.tar.gz && rm -rf CardinalWorkflows.buildbin-libdir && mkdir CardinalWorkflows.buildbin-libdir && D:\biocbuild\bbs-3.13-bioc\R\bin\R.exe CMD INSTALL --merge-multiarch --build --library=CardinalWorkflows.buildbin-libdir CardinalWorkflows_1.23.0.tar.gz && D:\biocbuild\bbs-3.13-bioc\R\bin\R.exe CMD INSTALL CardinalWorkflows_1.23.0.zip && rm CardinalWorkflows_1.23.0.tar.gz CardinalWorkflows_1.23.0.zip
###
##############################################################################
##############################################################################


  % Total    % Received % Xferd  Average Speed   Time    Time     Time  Current
                                 Dload  Upload   Total   Spent    Left  Speed

  0     0    0     0    0     0      0      0 --:--:-- --:--:-- --:--:--     0
 16  137M   16 22.6M    0     0  57.3M      0  0:00:02 --:--:--  0:00:02 57.2M
 43  137M   43 60.2M    0     0  40.3M      0  0:00:03  0:00:01  0:00:02 40.3M
 79  137M   79  109M    0     0  45.7M      0  0:00:03  0:00:02  0:00:01 45.7M
100  137M  100  137M    0     0  46.5M      0  0:00:02  0:00:02 --:--:-- 46.5M

install for i386

* installing *source* package 'CardinalWorkflows' ...
** using staged installation
** data
** inst
** help
*** installing help indices
  converting help for package 'CardinalWorkflows'
    finding HTML links ... done
    CardinalWorkflows-package               html  
REDIRECT:topic	 CardinalWorkflows-package -> CardinalWorkflows-package.html [ SUCCESS ]
REDIRECT:topic	 CardinalWorkflows -> CardinalWorkflows-package.html [ SUCCESS ]
    cardinal-data                           html  
REDIRECT:topic	 data:cardinal -> cardinal-data.html [ FAIL ]
REDIRECT:topic	 cardinal -> cardinal-data.html [ SUCCESS ]
REDIRECT:topic	 data:cardinal.peaklist -> cardinal-data.html [ FAIL ]
REDIRECT:topic	 cardinal.peaklist -> cardinal-data.html [ SUCCESS ]
REDIRECT:topic	 data:cardinal.peaks -> cardinal-data.html [ FAIL ]
REDIRECT:topic	 cardinal.peaks -> cardinal-data.html [ SUCCESS ]
REDIRECT:topic	 data:cardinal_analyses -> cardinal-data.html [ FAIL ]
REDIRECT:topic	 cardinal_analyses -> cardinal-data.html [ SUCCESS ]
REDIRECT:topic	 data:cardinal.sscg -> cardinal-data.html [ FAIL ]
REDIRECT:topic	 cardinal.sscg -> cardinal-data.html [ SUCCESS ]
REDIRECT:topic	 data:cardinal.ssca -> cardinal-data.html [ FAIL ]
REDIRECT:topic	 cardinal.ssca -> cardinal-data.html [ SUCCESS ]
REDIRECT:file	 cardinal-data.html -> cardinal-data.html [ SUCCESS ]
    pig206-data                             html  
REDIRECT:topic	 data:pig206 -> pig206-data.html [ FAIL ]
REDIRECT:topic	 pig206 -> pig206-data.html [ SUCCESS ]
REDIRECT:topic	 data:pig206.peaklist -> pig206-data.html [ FAIL ]
REDIRECT:topic	 pig206.peaklist -> pig206-data.html [ SUCCESS ]
REDIRECT:topic	 data:pig206.peaks -> pig206-data.html [ FAIL ]
REDIRECT:topic	 pig206.peaks -> pig206-data.html [ SUCCESS ]
REDIRECT:topic	 data:pig206_analyses -> pig206-data.html [ FAIL ]
REDIRECT:topic	 pig206_analyses -> pig206-data.html [ SUCCESS ]
REDIRECT:topic	 data:pig206.pca -> pig206-data.html [ FAIL ]
REDIRECT:topic	 pig206.pca -> pig206-data.html [ SUCCESS ]
REDIRECT:topic	 data:pig206.skmg -> pig206-data.html [ FAIL ]
REDIRECT:topic	 pig206.skmg -> pig206-data.html [ SUCCESS ]
REDIRECT:topic	 data:pig206.skma -> pig206-data.html [ FAIL ]
REDIRECT:topic	 pig206.skma -> pig206-data.html [ SUCCESS ]
REDIRECT:topic	 data:pig206.sscg -> pig206-data.html [ FAIL ]
REDIRECT:topic	 pig206.sscg -> pig206-data.html [ SUCCESS ]
REDIRECT:topic	 data:pig206.ssca -> pig206-data.html [ FAIL ]
REDIRECT:topic	 pig206.ssca -> pig206-data.html [ SUCCESS ]
REDIRECT:file	 pig206-data.html -> pig206-data.html [ SUCCESS ]
    rcc-data                                html  
REDIRECT:topic	 data:rcc -> rcc-data.html [ FAIL ]
REDIRECT:topic	 rcc -> rcc-data.html [ SUCCESS ]
REDIRECT:topic	 data:rcc.resample -> rcc-data.html [ FAIL ]
REDIRECT:topic	 rcc.resample -> rcc-data.html [ SUCCESS ]
REDIRECT:topic	 data:rcc.small -> rcc-data.html [ FAIL ]
REDIRECT:topic	 rcc.small -> rcc-data.html [ SUCCESS ]
REDIRECT:topic	 data:rcc_analyses -> rcc-data.html [ FAIL ]
REDIRECT:topic	 rcc_analyses -> rcc-data.html [ SUCCESS ]
REDIRECT:topic	 data:rcc.pca -> rcc-data.html [ FAIL ]
REDIRECT:topic	 rcc.pca -> rcc-data.html [ SUCCESS ]
REDIRECT:topic	 data:rcc.cv.pls -> rcc-data.html [ FAIL ]
REDIRECT:topic	 rcc.cv.pls -> rcc-data.html [ SUCCESS ]
REDIRECT:topic	 data:rcc.cv.opls -> rcc-data.html [ FAIL ]
REDIRECT:topic	 rcc.cv.opls -> rcc-data.html [ SUCCESS ]
REDIRECT:topic	 data:rcc.pls -> rcc-data.html [ FAIL ]
REDIRECT:topic	 rcc.pls -> rcc-data.html [ SUCCESS ]
REDIRECT:topic	 data:rcc.opls -> rcc-data.html [ FAIL ]
REDIRECT:topic	 rcc.opls -> rcc-data.html [ SUCCESS ]
REDIRECT:topic	 data:rcc.cv.sscg -> rcc-data.html [ FAIL ]
REDIRECT:topic	 rcc.cv.sscg -> rcc-data.html [ SUCCESS ]
REDIRECT:topic	 data:rcc.cv.ssca -> rcc-data.html [ FAIL ]
REDIRECT:topic	 rcc.cv.ssca -> rcc-data.html [ SUCCESS ]
REDIRECT:topic	 data:rcc.sscg -> rcc-data.html [ FAIL ]
REDIRECT:topic	 rcc.sscg -> rcc-data.html [ SUCCESS ]
REDIRECT:topic	 data:rcc.ssca -> rcc-data.html [ FAIL ]
REDIRECT:topic	 rcc.ssca -> rcc-data.html [ SUCCESS ]
REDIRECT:file	 rcc-data.html -> rcc-data.html [ SUCCESS ]
** building package indices
** installing vignettes
** testing if installed package can be loaded from temporary location
** testing if installed package can be loaded from final location
** testing if installed package keeps a record of temporary installation path

install for x64

* installing *source* package 'CardinalWorkflows' ...
** testing if installed package can be loaded
* MD5 sums
packaged installation of 'CardinalWorkflows' as CardinalWorkflows_1.23.0.zip
* DONE (CardinalWorkflows)
* installing to library 'D:/biocbuild/bbs-3.13-bioc/R/library'
package 'CardinalWorkflows' successfully unpacked and MD5 sums checked