Back to Multiple platform build/check report for BioC 3.13 experimental data
AB[C]DEFGHIJKLMNOPQRSTUVWXYZ

INSTALL report for CRCL18 on riesling1

This page was generated on 2021-01-21 16:01:26 -0500 (Thu, 21 Jan 2021).

TO THE DEVELOPERS/MAINTAINERS OF THE CRCL18 PACKAGE: Please make sure to use the following settings in order to reproduce any error or warning you see on this page.
Package 78/386HostnameOS / ArchINSTALLBUILDCHECK
CRCL18 1.11.0
Claudio Isella
Snapshot Date: 2021-01-21 09:00:14 -0500 (Thu, 21 Jan 2021)
URL: https://git.bioconductor.org/packages/CRCL18
Branch: master
Last Commit: d7c6f9f
Last Changed Date: 2020-10-27 10:09:44 -0500 (Tue, 27 Oct 2020)
malbec2 Linux (Ubuntu 20.04.1 LTS) / x86_64  OK  OK  OK UNNEEDED, same version exists in internal repository
riesling1 Windows Server 2019 Standard / x64 [ OK ] OK  OK 

Summary

Package: CRCL18
Version: 1.11.0
Command: C:\cygwin\bin\curl.exe -O http://172.29.0.4/BBS/3.13/data-experiment/src/contrib/CRCL18_1.11.0.tar.gz && rm -rf CRCL18.buildbin-libdir && mkdir CRCL18.buildbin-libdir && D:\biocbuild\bbs-3.13-bioc\R\bin\R.exe CMD INSTALL --merge-multiarch --build --library=CRCL18.buildbin-libdir CRCL18_1.11.0.tar.gz && D:\biocbuild\bbs-3.13-bioc\R\bin\R.exe CMD INSTALL CRCL18_1.11.0.zip && rm CRCL18_1.11.0.tar.gz CRCL18_1.11.0.zip
StartedAt: 2021-01-21 10:02:52 -0500 (Thu, 21 Jan 2021)
EndedAt: 2021-01-21 10:03:10 -0500 (Thu, 21 Jan 2021)
EllapsedTime: 18.1 seconds
RetCode: 0
Status:  OK  

Command output

##############################################################################
##############################################################################
###
### Running command:
###
###   C:\cygwin\bin\curl.exe -O http://172.29.0.4/BBS/3.13/data-experiment/src/contrib/CRCL18_1.11.0.tar.gz && rm -rf CRCL18.buildbin-libdir && mkdir CRCL18.buildbin-libdir && D:\biocbuild\bbs-3.13-bioc\R\bin\R.exe CMD INSTALL --merge-multiarch --build --library=CRCL18.buildbin-libdir CRCL18_1.11.0.tar.gz && D:\biocbuild\bbs-3.13-bioc\R\bin\R.exe CMD INSTALL CRCL18_1.11.0.zip && rm CRCL18_1.11.0.tar.gz CRCL18_1.11.0.zip
###
##############################################################################
##############################################################################


  % Total    % Received % Xferd  Average Speed   Time    Time     Time  Current
                                 Dload  Upload   Total   Spent    Left  Speed

  0     0    0     0    0     0      0      0 --:--:-- --:--:-- --:--:--     0
100 2400k  100 2400k    0     0  8511k      0 --:--:-- --:--:-- --:--:-- 8511k

install for i386

* installing *source* package 'CRCL18' ...
** using staged installation
** R
** data
** byte-compile and prepare package for lazy loading
** help
*** installing help indices
  converting help for package 'CRCL18'
    finding HTML links ... done
    CRCLmirna                               html  
REDIRECT:topic	 CRCLmirna -> CRCLmirna.html [ SUCCESS ]
    CRCLmrna                                html  
REDIRECT:topic	 CRCLmrna -> CRCLmrna.html [ SUCCESS ]
** building package indices
** installing vignettes
** testing if installed package can be loaded from temporary location
** testing if installed package can be loaded from final location
** testing if installed package keeps a record of temporary installation path

install for x64

* installing *source* package 'CRCL18' ...
** testing if installed package can be loaded
* MD5 sums
packaged installation of 'CRCL18' as CRCL18_1.11.0.zip
* DONE (CRCL18)
* installing to library 'D:/biocbuild/bbs-3.13-bioc/R/library'
package 'CRCL18' successfully unpacked and MD5 sums checked