Back to Multiple platform build/check report for BioC 3.13 experimental data
AB[C]DEFGHIJKLMNOPQRSTUVWXYZ

CHECK report for CRCL18 on riesling1

This page was generated on 2021-01-14 15:59:07 -0500 (Thu, 14 Jan 2021).

TO THE DEVELOPERS/MAINTAINERS OF THE CRCL18 PACKAGE: Please make sure to use the following settings in order to reproduce any error or warning you see on this page.
Package 78/385HostnameOS / ArchINSTALLBUILDCHECK
CRCL18 1.11.0
Claudio Isella
Snapshot Date: 2021-01-14 09:00:13 -0500 (Thu, 14 Jan 2021)
URL: https://git.bioconductor.org/packages/CRCL18
Branch: master
Last Commit: d7c6f9f
Last Changed Date: 2020-10-27 10:09:44 -0500 (Tue, 27 Oct 2020)
malbec2 Linux (Ubuntu 20.04.1 LTS) / x86_64  OK  OK  OK UNNEEDED, same version exists in internal repository
riesling1 Windows Server 2019 Standard / x64  OK  OK [ OK ]

Summary

Package: CRCL18
Version: 1.11.0
Command: D:\biocbuild\bbs-3.13-bioc\R\bin\R.exe CMD check --force-multiarch --install=check:CRCL18.install-out.txt --library=D:\biocbuild\bbs-3.13-bioc\R\library --no-vignettes --timings CRCL18_1.11.0.tar.gz
StartedAt: 2021-01-14 11:12:06 -0500 (Thu, 14 Jan 2021)
EndedAt: 2021-01-14 11:12:34 -0500 (Thu, 14 Jan 2021)
EllapsedTime: 27.8 seconds
RetCode: 0
Status:  OK  
CheckDir: CRCL18.Rcheck
Warnings: 0

Command output

##############################################################################
##############################################################################
###
### Running command:
###
###   D:\biocbuild\bbs-3.13-bioc\R\bin\R.exe CMD check --force-multiarch --install=check:CRCL18.install-out.txt --library=D:\biocbuild\bbs-3.13-bioc\R\library --no-vignettes --timings CRCL18_1.11.0.tar.gz
###
##############################################################################
##############################################################################


* using log directory 'D:/biocbuild/bbs-3.13-data-experiment/meat/CRCL18.Rcheck'
* using R Under development (unstable) (2020-12-30 r79736)
* using platform: x86_64-w64-mingw32 (64-bit)
* using session charset: ISO8859-1
* using option '--no-vignettes'
* checking for file 'CRCL18/DESCRIPTION' ... OK
* checking extension type ... Package
* this is package 'CRCL18' version '1.11.0'
* checking package namespace information ... OK
* checking package dependencies ... OK
* checking if this is a source package ... OK
* checking if there is a namespace ... OK
* checking for hidden files and directories ... OK
* checking for portable file names ... OK
* checking whether package 'CRCL18' can be installed ... OK
* checking installed package size ... OK
* checking package directory ... OK
* checking 'build' directory ... OK
* checking DESCRIPTION meta-information ... NOTE
Malformed Description field: should contain one or more complete sentences.
* checking top-level files ... OK
* checking for left-over files ... OK
* checking index information ... OK
* checking package subdirectories ... OK
* checking R files for non-ASCII characters ... OK
* checking R files for syntax errors ... OK
* loading checks for arch 'i386'
** checking whether the package can be loaded ... OK
** checking whether the package can be loaded with stated dependencies ... OK
** checking whether the package can be unloaded cleanly ... OK
** checking whether the namespace can be loaded with stated dependencies ... OK
** checking whether the namespace can be unloaded cleanly ... OK
* loading checks for arch 'x64'
** checking whether the package can be loaded ... OK
** checking whether the package can be loaded with stated dependencies ... OK
** checking whether the package can be unloaded cleanly ... OK
** checking whether the namespace can be loaded with stated dependencies ... OK
** checking whether the namespace can be unloaded cleanly ... OK
* checking dependencies in R code ... OK
* checking S3 generic/method consistency ... OK
* checking replacement functions ... OK
* checking foreign function calls ... OK
* checking R code for possible problems ... OK
* checking Rd files ... OK
* checking Rd metadata ... OK
* checking Rd cross-references ... OK
* checking for missing documentation entries ... OK
* checking for code/documentation mismatches ... OK
* checking Rd \usage sections ... OK
* checking Rd contents ... OK
* checking for unstated dependencies in examples ... OK
* checking contents of 'data' directory ... OK
* checking data for non-ASCII characters ... OK
* checking data for ASCII and uncompressed saves ... OK
* checking files in 'vignettes' ... OK
* checking examples ... NONE
* checking for unstated dependencies in vignettes ... OK
* checking package vignettes in 'inst/doc' ... OK
* checking running R code from vignettes ... SKIPPED
* checking re-building of vignette outputs ... SKIPPED
* checking PDF version of manual ... OK
* DONE

Status: 1 NOTE
See
  'D:/biocbuild/bbs-3.13-data-experiment/meat/CRCL18.Rcheck/00check.log'
for details.



Installation output

CRCL18.Rcheck/00install.out

##############################################################################
##############################################################################
###
### Running command:
###
###   C:\cygwin\bin\curl.exe -O http://172.29.0.4/BBS/3.13/data-experiment/src/contrib/CRCL18_1.11.0.tar.gz && rm -rf CRCL18.buildbin-libdir && mkdir CRCL18.buildbin-libdir && D:\biocbuild\bbs-3.13-bioc\R\bin\R.exe CMD INSTALL --merge-multiarch --build --library=CRCL18.buildbin-libdir CRCL18_1.11.0.tar.gz && D:\biocbuild\bbs-3.13-bioc\R\bin\R.exe CMD INSTALL CRCL18_1.11.0.zip && rm CRCL18_1.11.0.tar.gz CRCL18_1.11.0.zip
###
##############################################################################
##############################################################################


  % Total    % Received % Xferd  Average Speed   Time    Time     Time  Current
                                 Dload  Upload   Total   Spent    Left  Speed

  0     0    0     0    0     0      0      0 --:--:-- --:--:-- --:--:--     0
100 2400k  100 2400k    0     0  61.6M      0 --:--:-- --:--:-- --:--:-- 63.3M

install for i386

* installing *source* package 'CRCL18' ...
** using staged installation
** R
** data
** byte-compile and prepare package for lazy loading
** help
*** installing help indices
  converting help for package 'CRCL18'
    finding HTML links ... done
    CRCLmirna                               html  
REDIRECT:topic	 CRCLmirna -> CRCLmirna.html [ SUCCESS ]
    CRCLmrna                                html  
REDIRECT:topic	 CRCLmrna -> CRCLmrna.html [ SUCCESS ]
** building package indices
** installing vignettes
** testing if installed package can be loaded from temporary location
** testing if installed package can be loaded from final location
** testing if installed package keeps a record of temporary installation path

install for x64

* installing *source* package 'CRCL18' ...
** testing if installed package can be loaded
* MD5 sums
packaged installation of 'CRCL18' as CRCL18_1.11.0.zip
* DONE (CRCL18)
* installing to library 'D:/biocbuild/bbs-3.13-bioc/R/library'
package 'CRCL18' successfully unpacked and MD5 sums checked

Tests output


Example timings