Back to Multiple platform build/check report for BioC 3.13 experimental data
AB[C]DEFGHIJKLMNOPQRSTUVWXYZ

INSTALL report for COSMIC.67 on riesling1

This page was generated on 2021-01-14 15:59:07 -0500 (Thu, 14 Jan 2021).

TO THE DEVELOPERS/MAINTAINERS OF THE COSMIC.67 PACKAGE: Please make sure to use the following settings in order to reproduce any error or warning you see on this page.
Package 77/385HostnameOS / ArchINSTALLBUILDCHECK
COSMIC.67 1.27.0
Julian Gehring
Snapshot Date: 2021-01-14 09:00:13 -0500 (Thu, 14 Jan 2021)
URL: https://git.bioconductor.org/packages/COSMIC.67
Branch: master
Last Commit: db73308
Last Changed Date: 2020-10-27 10:06:45 -0500 (Tue, 27 Oct 2020)
malbec2 Linux (Ubuntu 20.04.1 LTS) / x86_64  OK  OK  OK UNNEEDED, same version exists in internal repository
riesling1 Windows Server 2019 Standard / x64 [ OK ] OK  OK 

Summary

Package: COSMIC.67
Version: 1.27.0
Command: C:\cygwin\bin\curl.exe -O http://172.29.0.4/BBS/3.13/data-experiment/src/contrib/COSMIC.67_1.27.0.tar.gz && rm -rf COSMIC.67.buildbin-libdir && mkdir COSMIC.67.buildbin-libdir && D:\biocbuild\bbs-3.13-bioc\R\bin\R.exe CMD INSTALL --merge-multiarch --build --library=COSMIC.67.buildbin-libdir COSMIC.67_1.27.0.tar.gz && D:\biocbuild\bbs-3.13-bioc\R\bin\R.exe CMD INSTALL COSMIC.67_1.27.0.zip && rm COSMIC.67_1.27.0.tar.gz COSMIC.67_1.27.0.zip
StartedAt: 2021-01-14 10:08:41 -0500 (Thu, 14 Jan 2021)
EndedAt: 2021-01-14 10:09:27 -0500 (Thu, 14 Jan 2021)
EllapsedTime: 45.7 seconds
RetCode: 0
Status:  OK  

Command output

##############################################################################
##############################################################################
###
### Running command:
###
###   C:\cygwin\bin\curl.exe -O http://172.29.0.4/BBS/3.13/data-experiment/src/contrib/COSMIC.67_1.27.0.tar.gz && rm -rf COSMIC.67.buildbin-libdir && mkdir COSMIC.67.buildbin-libdir && D:\biocbuild\bbs-3.13-bioc\R\bin\R.exe CMD INSTALL --merge-multiarch --build --library=COSMIC.67.buildbin-libdir COSMIC.67_1.27.0.tar.gz && D:\biocbuild\bbs-3.13-bioc\R\bin\R.exe CMD INSTALL COSMIC.67_1.27.0.zip && rm COSMIC.67_1.27.0.tar.gz COSMIC.67_1.27.0.zip
###
##############################################################################
##############################################################################


  % Total    % Received % Xferd  Average Speed   Time    Time     Time  Current
                                 Dload  Upload   Total   Spent    Left  Speed

  0     0    0     0    0     0      0      0 --:--:-- --:--:-- --:--:--     0
  3 39.0M    3 1215k    0     0  4537k      0  0:00:08 --:--:--  0:00:08 4520k
 86 39.0M   86 33.9M    0     0  26.7M      0  0:00:01  0:00:01 --:--:-- 26.7M
100 39.0M  100 39.0M    0     0  27.2M      0  0:00:01  0:00:01 --:--:-- 27.2M

install for i386

* installing *source* package 'COSMIC.67' ...
** using staged installation
** R
** data
** inst
** byte-compile and prepare package for lazy loading
** help
*** installing help indices
  converting help for package 'COSMIC.67'
    finding HTML links ... done
    COSMIC.67-package                       html  
REDIRECT:topic	 COSMIC.67 -> COSMIC.67-package.html [ SUCCESS ]
REDIRECT:topic	 COSMIC.67-data -> COSMIC.67-package.html [ SUCCESS ]
REDIRECT:topic	 COSMIC.67-package -> COSMIC.67-package.html [ SUCCESS ]
REDIRECT:topic	 cosmic_67 -> COSMIC.67-package.html [ SUCCESS ]
REDIRECT:topic	 cosmic_67-data -> COSMIC.67-package.html [ SUCCESS ]
REDIRECT:topic	 cgc_67 -> COSMIC.67-package.html [ SUCCESS ]
REDIRECT:topic	 cgc_67-data -> COSMIC.67-package.html [ SUCCESS ]
** building package indices
** installing vignettes
** testing if installed package can be loaded from temporary location
** testing if installed package can be loaded from final location
** testing if installed package keeps a record of temporary installation path

install for x64

* installing *source* package 'COSMIC.67' ...
** testing if installed package can be loaded
* MD5 sums
packaged installation of 'COSMIC.67' as COSMIC.67_1.27.0.zip
* DONE (COSMIC.67)
* installing to library 'D:/biocbuild/bbs-3.13-bioc/R/library'
package 'COSMIC.67' successfully unpacked and MD5 sums checked