Back to Multiple platform build/check report for BioC 3.13 experimental data
AB[C]DEFGHIJKLMNOPQRSTUVWXYZ

BUILD report for COSMIC.67 on riesling1

This page was generated on 2021-01-14 15:59:07 -0500 (Thu, 14 Jan 2021).

TO THE DEVELOPERS/MAINTAINERS OF THE COSMIC.67 PACKAGE: Please make sure to use the following settings in order to reproduce any error or warning you see on this page.
Package 77/385HostnameOS / ArchINSTALLBUILDCHECK
COSMIC.67 1.27.0
Julian Gehring
Snapshot Date: 2021-01-14 09:00:13 -0500 (Thu, 14 Jan 2021)
URL: https://git.bioconductor.org/packages/COSMIC.67
Branch: master
Last Commit: db73308
Last Changed Date: 2020-10-27 10:06:45 -0500 (Tue, 27 Oct 2020)
malbec2 Linux (Ubuntu 20.04.1 LTS) / x86_64  OK  OK  OK UNNEEDED, same version exists in internal repository
riesling1 Windows Server 2019 Standard / x64  OK [ OK ] OK 

Summary

Package: COSMIC.67
Version: 1.27.0
Command: chmod a+r COSMIC.67 -R && D:\biocbuild\bbs-3.13-bioc\R\bin\R.exe CMD build --keep-empty-dirs --no-resave-data COSMIC.67
StartedAt: 2021-01-14 10:30:03 -0500 (Thu, 14 Jan 2021)
EndedAt: 2021-01-14 10:31:02 -0500 (Thu, 14 Jan 2021)
EllapsedTime: 59.8 seconds
RetCode: 0
Status:  OK  
PackageFile: COSMIC.67_1.27.0.tar.gz
PackageFileSize: 39.17 MiB

Command output

##############################################################################
##############################################################################
###
### Running command:
###
###   chmod a+r COSMIC.67 -R && D:\biocbuild\bbs-3.13-bioc\R\bin\R.exe CMD build --keep-empty-dirs --no-resave-data COSMIC.67
###
##############################################################################
##############################################################################


* checking for file 'COSMIC.67/DESCRIPTION' ... OK
* preparing 'COSMIC.67':
* checking DESCRIPTION meta-information ... OK
* installing the package to build vignettes
* creating vignettes ... OK
* checking for LF line-endings in source and make files and shell scripts
* checking for empty or unneeded directories
* looking to see if a 'data/datalist' file should be added
* building 'COSMIC.67_1.27.0.tar.gz'