Back to Multiple platform build/check report for BioC 3.13 experimental data
AB[C]DEFGHIJKLMNOPQRSTUVWXYZ

BUILD report for COPDSexualDimorphism.data on riesling1

This page was generated on 2021-01-14 15:59:07 -0500 (Thu, 14 Jan 2021).

TO THE DEVELOPERS/MAINTAINERS OF THE COPDSexualDimorphism.data PACKAGE: Please make sure to use the following settings in order to reproduce any error or warning you see on this page.
Package 74/385HostnameOS / ArchINSTALLBUILDCHECK
COPDSexualDimorphism.data 1.27.0
J Fah Sathirapongsasuti
Snapshot Date: 2021-01-14 09:00:13 -0500 (Thu, 14 Jan 2021)
URL: https://git.bioconductor.org/packages/COPDSexualDimorphism.data
Branch: master
Last Commit: d59afa6
Last Changed Date: 2020-10-27 10:08:40 -0500 (Tue, 27 Oct 2020)
malbec2 Linux (Ubuntu 20.04.1 LTS) / x86_64  OK  OK  WARNINGS UNNEEDED, same version exists in internal repository
riesling1 Windows Server 2019 Standard / x64  OK [ OK ] WARNINGS 

Summary

Package: COPDSexualDimorphism.data
Version: 1.27.0
Command: chmod a+r COPDSexualDimorphism.data -R && D:\biocbuild\bbs-3.13-bioc\R\bin\R.exe CMD build --keep-empty-dirs --no-resave-data COPDSexualDimorphism.data
StartedAt: 2021-01-14 10:29:35 -0500 (Thu, 14 Jan 2021)
EndedAt: 2021-01-14 10:29:48 -0500 (Thu, 14 Jan 2021)
EllapsedTime: 13.0 seconds
RetCode: 0
Status:  OK  
PackageFile: COPDSexualDimorphism.data_1.27.0.tar.gz
PackageFileSize: 34.29 MiB

Command output

##############################################################################
##############################################################################
###
### Running command:
###
###   chmod a+r COPDSexualDimorphism.data -R && D:\biocbuild\bbs-3.13-bioc\R\bin\R.exe CMD build --keep-empty-dirs --no-resave-data COPDSexualDimorphism.data
###
##############################################################################
##############################################################################


* checking for file 'COPDSexualDimorphism.data/DESCRIPTION' ... OK
* preparing 'COPDSexualDimorphism.data':
* checking DESCRIPTION meta-information ... OK
* installing the package to build vignettes
* creating vignettes ... OK
* checking for LF line-endings in source and make files and shell scripts
* checking for empty or unneeded directories
* looking to see if a 'data/datalist' file should be added
* building 'COPDSexualDimorphism.data_1.27.0.tar.gz'