Back to Multiple platform build/check report for BioC 3.13 experimental data
AB[C]DEFGHIJKLMNOPQRSTUVWXYZ

INSTALL report for CONFESSdata on riesling1

This page was generated on 2021-01-14 15:59:07 -0500 (Thu, 14 Jan 2021).

TO THE DEVELOPERS/MAINTAINERS OF THE CONFESSdata PACKAGE: Please make sure to use the following settings in order to reproduce any error or warning you see on this page.
Package 72/385HostnameOS / ArchINSTALLBUILDCHECK
CONFESSdata 1.19.0
Diana LOW
Snapshot Date: 2021-01-14 09:00:13 -0500 (Thu, 14 Jan 2021)
URL: https://git.bioconductor.org/packages/CONFESSdata
Branch: master
Last Commit: c0be77c
Last Changed Date: 2020-10-27 10:18:44 -0500 (Tue, 27 Oct 2020)
malbec2 Linux (Ubuntu 20.04.1 LTS) / x86_64  OK  OK  OK UNNEEDED, same version exists in internal repository
riesling1 Windows Server 2019 Standard / x64 [ OK ] OK  OK 

Summary

Package: CONFESSdata
Version: 1.19.0
Command: C:\cygwin\bin\curl.exe -O http://172.29.0.4/BBS/3.13/data-experiment/src/contrib/CONFESSdata_1.19.0.tar.gz && rm -rf CONFESSdata.buildbin-libdir && mkdir CONFESSdata.buildbin-libdir && D:\biocbuild\bbs-3.13-bioc\R\bin\R.exe CMD INSTALL --merge-multiarch --build --library=CONFESSdata.buildbin-libdir CONFESSdata_1.19.0.tar.gz && D:\biocbuild\bbs-3.13-bioc\R\bin\R.exe CMD INSTALL CONFESSdata_1.19.0.zip && rm CONFESSdata_1.19.0.tar.gz CONFESSdata_1.19.0.zip
StartedAt: 2021-01-14 10:00:16 -0500 (Thu, 14 Jan 2021)
EndedAt: 2021-01-14 10:00:57 -0500 (Thu, 14 Jan 2021)
EllapsedTime: 41.0 seconds
RetCode: 0
Status:  OK  

Command output

##############################################################################
##############################################################################
###
### Running command:
###
###   C:\cygwin\bin\curl.exe -O http://172.29.0.4/BBS/3.13/data-experiment/src/contrib/CONFESSdata_1.19.0.tar.gz && rm -rf CONFESSdata.buildbin-libdir && mkdir CONFESSdata.buildbin-libdir && D:\biocbuild\bbs-3.13-bioc\R\bin\R.exe CMD INSTALL --merge-multiarch --build --library=CONFESSdata.buildbin-libdir CONFESSdata_1.19.0.tar.gz && D:\biocbuild\bbs-3.13-bioc\R\bin\R.exe CMD INSTALL CONFESSdata_1.19.0.zip && rm CONFESSdata_1.19.0.tar.gz CONFESSdata_1.19.0.zip
###
##############################################################################
##############################################################################


  % Total    % Received % Xferd  Average Speed   Time    Time     Time  Current
                                 Dload  Upload   Total   Spent    Left  Speed

  0     0    0     0    0     0      0      0 --:--:-- --:--:-- --:--:--     0
100 10.2M  100 10.2M    0     0  48.6M      0 --:--:-- --:--:-- --:--:-- 48.6M

install for i386

* installing *source* package 'CONFESSdata' ...
** using staged installation
** data
*** moving datasets to lazyload DB
** inst
** help
*** installing help indices
  converting help for package 'CONFESSdata'
    finding HTML links ... done
    CONFESSdata                             html  
REDIRECT:topic	 CONFESSdata -> CONFESSdata.html [ SUCCESS ]
** building package indices
** testing if installed package can be loaded from temporary location
** testing if installed package can be loaded from final location
** testing if installed package keeps a record of temporary installation path

install for x64

* installing *source* package 'CONFESSdata' ...
** testing if installed package can be loaded
* MD5 sums
packaged installation of 'CONFESSdata' as CONFESSdata_1.19.0.zip
* DONE (CONFESSdata)
* installing to library 'D:/biocbuild/bbs-3.13-bioc/R/library'
package 'CONFESSdata' successfully unpacked and MD5 sums checked