Back to Multiple platform build/check report for BioC 3.13 experimental data
AB[C]DEFGHIJKLMNOPQRSTUVWXYZ

INSTALL report for COHCAPanno on riesling1

This page was generated on 2021-01-18 15:58:46 -0500 (Mon, 18 Jan 2021).

TO THE DEVELOPERS/MAINTAINERS OF THE COHCAPanno PACKAGE: Please make sure to use the following settings in order to reproduce any error or warning you see on this page.
Package 70/385HostnameOS / ArchINSTALLBUILDCHECK
COHCAPanno 1.27.0
Charles Warden
Snapshot Date: 2021-01-18 09:00:15 -0500 (Mon, 18 Jan 2021)
URL: https://git.bioconductor.org/packages/COHCAPanno
Branch: master
Last Commit: b771882
Last Changed Date: 2020-10-27 10:07:36 -0500 (Tue, 27 Oct 2020)
malbec2 Linux (Ubuntu 20.04.1 LTS) / x86_64  OK  OK  OK UNNEEDED, same version exists in internal repository
riesling1 Windows Server 2019 Standard / x64 [ OK ] OK  OK 

Summary

Package: COHCAPanno
Version: 1.27.0
Command: C:\cygwin\bin\curl.exe -O http://172.29.0.4/BBS/3.13/data-experiment/src/contrib/COHCAPanno_1.27.0.tar.gz && rm -rf COHCAPanno.buildbin-libdir && mkdir COHCAPanno.buildbin-libdir && D:\biocbuild\bbs-3.13-bioc\R\bin\R.exe CMD INSTALL --merge-multiarch --build --library=COHCAPanno.buildbin-libdir COHCAPanno_1.27.0.tar.gz && D:\biocbuild\bbs-3.13-bioc\R\bin\R.exe CMD INSTALL COHCAPanno_1.27.0.zip && rm COHCAPanno_1.27.0.tar.gz COHCAPanno_1.27.0.zip
StartedAt: 2021-01-18 09:51:38 -0500 (Mon, 18 Jan 2021)
EndedAt: 2021-01-18 09:51:44 -0500 (Mon, 18 Jan 2021)
EllapsedTime: 6.2 seconds
RetCode: 0
Status:  OK  

Command output

##############################################################################
##############################################################################
###
### Running command:
###
###   C:\cygwin\bin\curl.exe -O http://172.29.0.4/BBS/3.13/data-experiment/src/contrib/COHCAPanno_1.27.0.tar.gz && rm -rf COHCAPanno.buildbin-libdir && mkdir COHCAPanno.buildbin-libdir && D:\biocbuild\bbs-3.13-bioc\R\bin\R.exe CMD INSTALL --merge-multiarch --build --library=COHCAPanno.buildbin-libdir COHCAPanno_1.27.0.tar.gz && D:\biocbuild\bbs-3.13-bioc\R\bin\R.exe CMD INSTALL COHCAPanno_1.27.0.zip && rm COHCAPanno_1.27.0.tar.gz COHCAPanno_1.27.0.zip
###
##############################################################################
##############################################################################


  % Total    % Received % Xferd  Average Speed   Time    Time     Time  Current
                                 Dload  Upload   Total   Spent    Left  Speed

  0     0    0     0    0     0      0      0 --:--:-- --:--:-- --:--:--     0
  0 9475k    0  1215    0     0  22500      0  0:07:11 --:--:--  0:07:11 22090
 31 9475k   31 2963k    0     0  2852k      0  0:00:03  0:00:01  0:00:02 2849k
100 9475k  100 9475k    0     0  4790k      0  0:00:01  0:00:01 --:--:-- 4790k

install for i386

* installing *source* package 'COHCAPanno' ...
** using staged installation
** data
** help
*** installing help indices
  converting help for package 'COHCAPanno'
    finding HTML links ... done
    COHCAP.27k                              html  
REDIRECT:topic	 COHCAP.27k -> COHCAP.27k.html [ SUCCESS ]
    COHCAP.450k.HMM                         html  
REDIRECT:topic	 COHCAP.450k.HMM -> COHCAP.450k.HMM.html [ SUCCESS ]
    COHCAP.450k.UCSC                        html  
REDIRECT:topic	 COHCAP.450k.UCSC -> COHCAP.450k.UCSC.html [ SUCCESS ]
** building package indices
** installing vignettes
** testing if installed package can be loaded from temporary location
** testing if installed package can be loaded from final location
** testing if installed package keeps a record of temporary installation path

install for x64

* installing *source* package 'COHCAPanno' ...
** testing if installed package can be loaded
* MD5 sums
packaged installation of 'COHCAPanno' as COHCAPanno_1.27.0.zip
* DONE (COHCAPanno)
* installing to library 'D:/biocbuild/bbs-3.13-bioc/R/library'
package 'COHCAPanno' successfully unpacked and MD5 sums checked