Back to Multiple platform build/check report for BioC 3.13 experimental data |
|
This page was generated on 2021-01-14 15:59:07 -0500 (Thu, 14 Jan 2021).
TO THE DEVELOPERS/MAINTAINERS OF THE CLL PACKAGE: Please make sure to use the following settings in order to reproduce any error or warning you see on this page. |
Package 64/385 | Hostname | OS / Arch | INSTALL | BUILD | CHECK | ||||||
CLL 1.31.0 Robert Gentleman
| malbec2 | Linux (Ubuntu 20.04.1 LTS) / x86_64 | OK | OK | OK | ![]() | |||||
riesling1 | Windows Server 2019 Standard / x64 | [ OK ] | OK | OK |
Package: CLL |
Version: 1.31.0 |
Command: C:\cygwin\bin\curl.exe -O http://172.29.0.4/BBS/3.13/data-experiment/src/contrib/CLL_1.31.0.tar.gz && rm -rf CLL.buildbin-libdir && mkdir CLL.buildbin-libdir && D:\biocbuild\bbs-3.13-bioc\R\bin\R.exe CMD INSTALL --merge-multiarch --build --library=CLL.buildbin-libdir CLL_1.31.0.tar.gz && D:\biocbuild\bbs-3.13-bioc\R\bin\R.exe CMD INSTALL CLL_1.31.0.zip && rm CLL_1.31.0.tar.gz CLL_1.31.0.zip |
StartedAt: 2021-01-14 10:03:17 -0500 (Thu, 14 Jan 2021) |
EndedAt: 2021-01-14 10:03:30 -0500 (Thu, 14 Jan 2021) |
EllapsedTime: 12.9 seconds |
RetCode: 0 |
Status: OK |
############################################################################## ############################################################################## ### ### Running command: ### ### C:\cygwin\bin\curl.exe -O http://172.29.0.4/BBS/3.13/data-experiment/src/contrib/CLL_1.31.0.tar.gz && rm -rf CLL.buildbin-libdir && mkdir CLL.buildbin-libdir && D:\biocbuild\bbs-3.13-bioc\R\bin\R.exe CMD INSTALL --merge-multiarch --build --library=CLL.buildbin-libdir CLL_1.31.0.tar.gz && D:\biocbuild\bbs-3.13-bioc\R\bin\R.exe CMD INSTALL CLL_1.31.0.zip && rm CLL_1.31.0.tar.gz CLL_1.31.0.zip ### ############################################################################## ############################################################################## % Total % Received % Xferd Average Speed Time Time Time Current Dload Upload Total Spent Left Speed 0 0 0 0 0 0 0 0 --:--:-- --:--:-- --:--:-- 0 100 15.8M 100 15.8M 0 0 58.8M 0 --:--:-- --:--:-- --:--:-- 58.8M install for i386 * installing *source* package 'CLL' ... ** using staged installation ** R ** data ** byte-compile and prepare package for lazy loading ** help *** installing help indices converting help for package 'CLL' finding HTML links ... done CLL-package html REDIRECT:topic CLL-package -> CLL-package.html [ SUCCESS ] REDIRECT:topic CLL -> CLL-package.html [ SUCCESS ] CLLbatch html REDIRECT:topic CLLbatch -> CLLbatch.html [ SUCCESS ] disease html REDIRECT:topic disease -> disease.html [ SUCCESS ] nsFilter html REDIRECT:topic nsFilter -> nsFilter.html [ SUCCESS ] sCLLex html REDIRECT:topic sCLLex -> sCLLex.html [ SUCCESS ] sFiltert html REDIRECT:topic sFiltert -> sFiltert.html [ SUCCESS ] sFiltertBH html REDIRECT:topic sFiltertBH -> sFiltertBH.html [ SUCCESS ] ** building package indices ** testing if installed package can be loaded from temporary location ** testing if installed package can be loaded from final location ** testing if installed package keeps a record of temporary installation path install for x64 * installing *source* package 'CLL' ... ** testing if installed package can be loaded * MD5 sums packaged installation of 'CLL' as CLL_1.31.0.zip * DONE (CLL) * installing to library 'D:/biocbuild/bbs-3.13-bioc/R/library' package 'CLL' successfully unpacked and MD5 sums checked