Back to Multiple platform build/check report for BioC 3.13 experimental data |
|
This page was generated on 2021-01-11 15:59:28 -0500 (Mon, 11 Jan 2021).
TO THE DEVELOPERS/MAINTAINERS OF THE CCl4 PACKAGE: Please make sure to use the following settings in order to reproduce any error or warning you see on this page. |
Package 47/385 | Hostname | OS / Arch | INSTALL | BUILD | CHECK | ||||||
CCl4 1.29.0 Audrey Kauffmann
| malbec2 | Linux (Ubuntu 20.04.1 LTS) / x86_64 | OK | OK | WARNINGS | ![]() | |||||
riesling1 | Windows Server 2019 Standard / x64 | [ OK ] | OK | WARNINGS |
Package: CCl4 |
Version: 1.29.0 |
Command: C:\cygwin\bin\curl.exe -O http://172.29.0.4/BBS/3.13/data-experiment/src/contrib/CCl4_1.29.0.tar.gz && rm -rf CCl4.buildbin-libdir && mkdir CCl4.buildbin-libdir && D:\biocbuild\bbs-3.13-bioc\R\bin\R.exe CMD INSTALL --merge-multiarch --build --library=CCl4.buildbin-libdir CCl4_1.29.0.tar.gz && D:\biocbuild\bbs-3.13-bioc\R\bin\R.exe CMD INSTALL CCl4_1.29.0.zip && rm CCl4_1.29.0.tar.gz CCl4_1.29.0.zip |
StartedAt: 2021-01-11 10:03:28 -0500 (Mon, 11 Jan 2021) |
EndedAt: 2021-01-11 10:05:16 -0500 (Mon, 11 Jan 2021) |
EllapsedTime: 108.7 seconds |
RetCode: 0 |
Status: OK |
############################################################################## ############################################################################## ### ### Running command: ### ### C:\cygwin\bin\curl.exe -O http://172.29.0.4/BBS/3.13/data-experiment/src/contrib/CCl4_1.29.0.tar.gz && rm -rf CCl4.buildbin-libdir && mkdir CCl4.buildbin-libdir && D:\biocbuild\bbs-3.13-bioc\R\bin\R.exe CMD INSTALL --merge-multiarch --build --library=CCl4.buildbin-libdir CCl4_1.29.0.tar.gz && D:\biocbuild\bbs-3.13-bioc\R\bin\R.exe CMD INSTALL CCl4_1.29.0.zip && rm CCl4_1.29.0.tar.gz CCl4_1.29.0.zip ### ############################################################################## ############################################################################## % Total % Received % Xferd Average Speed Time Time Time Current Dload Upload Total Spent Left Speed 0 0 0 0 0 0 0 0 --:--:-- --:--:-- --:--:-- 0 48 111M 48 54.2M 0 0 98.7M 0 0:00:01 --:--:-- 0:00:01 98.5M 100 111M 100 111M 0 0 104M 0 0:00:01 0:00:01 --:--:-- 104M install for i386 * installing *source* package 'CCl4' ... ** using staged installation ** data ** inst ** help *** installing help indices converting help for package 'CCl4' finding HTML links ... done CCl4 html REDIRECT:topic CCl4 -> CCl4.html [ SUCCESS ] REDIRECT:topic CCl4_RGList -> CCl4.html [ SUCCESS ] ** building package indices ** installing vignettes ** testing if installed package can be loaded from temporary location ** testing if installed package can be loaded from final location ** testing if installed package keeps a record of temporary installation path install for x64 * installing *source* package 'CCl4' ... ** testing if installed package can be loaded * MD5 sums packaged installation of 'CCl4' as CCl4_1.29.0.zip * DONE (CCl4) * installing to library 'D:/biocbuild/bbs-3.13-bioc/R/library' package 'CCl4' successfully unpacked and MD5 sums checked