Back to Multiple platform build/check report for BioC 3.13 experimental data
AB[C]DEFGHIJKLMNOPQRSTUVWXYZ

BUILD report for CCl4 on riesling1

This page was generated on 2021-01-14 15:59:07 -0500 (Thu, 14 Jan 2021).

TO THE DEVELOPERS/MAINTAINERS OF THE CCl4 PACKAGE: Please make sure to use the following settings in order to reproduce any error or warning you see on this page.
Package 47/385HostnameOS / ArchINSTALLBUILDCHECK
CCl4 1.29.0
Audrey Kauffmann
Snapshot Date: 2021-01-14 09:00:13 -0500 (Thu, 14 Jan 2021)
URL: https://git.bioconductor.org/packages/CCl4
Branch: master
Last Commit: d5d52d2
Last Changed Date: 2020-10-27 09:47:36 -0500 (Tue, 27 Oct 2020)
malbec2 Linux (Ubuntu 20.04.1 LTS) / x86_64  OK  OK  WARNINGS UNNEEDED, same version exists in internal repository
riesling1 Windows Server 2019 Standard / x64  OK [ OK ] WARNINGS 

Summary

Package: CCl4
Version: 1.29.0
Command: chmod a+r CCl4 -R && D:\biocbuild\bbs-3.13-bioc\R\bin\R.exe CMD build --keep-empty-dirs --no-resave-data CCl4
StartedAt: 2021-01-14 10:26:02 -0500 (Thu, 14 Jan 2021)
EndedAt: 2021-01-14 10:28:21 -0500 (Thu, 14 Jan 2021)
EllapsedTime: 138.4 seconds
RetCode: 0
Status:  OK  
PackageFile: CCl4_1.29.0.tar.gz
PackageFileSize: 110.4 MiB

Command output

##############################################################################
##############################################################################
###
### Running command:
###
###   chmod a+r CCl4 -R && D:\biocbuild\bbs-3.13-bioc\R\bin\R.exe CMD build --keep-empty-dirs --no-resave-data CCl4
###
##############################################################################
##############################################################################


* checking for file 'CCl4/DESCRIPTION' ... OK
* preparing 'CCl4':
* checking DESCRIPTION meta-information ... OK
* installing the package to build vignettes
* creating vignettes ... OK
* checking for LF line-endings in source and make files and shell scripts
* checking for empty or unneeded directories
* looking to see if a 'data/datalist' file should be added
* building 'CCl4_1.29.0.tar.gz'