Name | Last modified | Size | Description | |
---|---|---|---|---|
Parent Directory | - | |||
buildsrc-out.txt | 17-Oct-2021 04:58 | 857 | ||
buildsrc-summary.dcf | 17-Oct-2021 04:58 | 408 | ||
checksrc-out.txt | 17-Oct-2021 04:58 | 4.8K | ||
checksrc-summary.dcf | 17-Oct-2021 04:58 | 417 | ||
install-out.txt | 17-Oct-2021 04:58 | 888 | ||
install-summary.dcf | 17-Oct-2021 04:58 | 252 | ||