Back to Multiple platform build/check report for BioC 3.13 experimental data
A[B]CDEFGHIJKLMNOPQRSTUVWXYZ

INSTALL report for BeadArrayUseCases on riesling1

This page was generated on 2021-01-14 15:59:06 -0500 (Thu, 14 Jan 2021).

TO THE DEVELOPERS/MAINTAINERS OF THE BeadArrayUseCases PACKAGE: Please make sure to use the following settings in order to reproduce any error or warning you see on this page.
Package 24/385HostnameOS / ArchINSTALLBUILDCHECK
BeadArrayUseCases 1.29.0
Mike Smith
Snapshot Date: 2021-01-14 09:00:13 -0500 (Thu, 14 Jan 2021)
URL: https://git.bioconductor.org/packages/BeadArrayUseCases
Branch: master
Last Commit: 9416683
Last Changed Date: 2020-10-27 09:54:12 -0500 (Tue, 27 Oct 2020)
malbec2 Linux (Ubuntu 20.04.1 LTS) / x86_64  OK  OK  OK UNNEEDED, same version exists in internal repository
riesling1 Windows Server 2019 Standard / x64 [ OK ] OK  OK 

Summary

Package: BeadArrayUseCases
Version: 1.29.0
Command: C:\cygwin\bin\curl.exe -O http://172.29.0.4/BBS/3.13/data-experiment/src/contrib/BeadArrayUseCases_1.29.0.tar.gz && rm -rf BeadArrayUseCases.buildbin-libdir && mkdir BeadArrayUseCases.buildbin-libdir && D:\biocbuild\bbs-3.13-bioc\R\bin\R.exe CMD INSTALL --merge-multiarch --build --library=BeadArrayUseCases.buildbin-libdir BeadArrayUseCases_1.29.0.tar.gz && D:\biocbuild\bbs-3.13-bioc\R\bin\R.exe CMD INSTALL BeadArrayUseCases_1.29.0.zip && rm BeadArrayUseCases_1.29.0.tar.gz BeadArrayUseCases_1.29.0.zip
StartedAt: 2021-01-14 10:15:33 -0500 (Thu, 14 Jan 2021)
EndedAt: 2021-01-14 10:17:22 -0500 (Thu, 14 Jan 2021)
EllapsedTime: 108.4 seconds
RetCode: 0
Status:  OK  

Command output

##############################################################################
##############################################################################
###
### Running command:
###
###   C:\cygwin\bin\curl.exe -O http://172.29.0.4/BBS/3.13/data-experiment/src/contrib/BeadArrayUseCases_1.29.0.tar.gz && rm -rf BeadArrayUseCases.buildbin-libdir && mkdir BeadArrayUseCases.buildbin-libdir && D:\biocbuild\bbs-3.13-bioc\R\bin\R.exe CMD INSTALL --merge-multiarch --build --library=BeadArrayUseCases.buildbin-libdir BeadArrayUseCases_1.29.0.tar.gz && D:\biocbuild\bbs-3.13-bioc\R\bin\R.exe CMD INSTALL BeadArrayUseCases_1.29.0.zip && rm BeadArrayUseCases_1.29.0.tar.gz BeadArrayUseCases_1.29.0.zip
###
##############################################################################
##############################################################################


  % Total    % Received % Xferd  Average Speed   Time    Time     Time  Current
                                 Dload  Upload   Total   Spent    Left  Speed

  0     0    0     0    0     0      0      0 --:--:-- --:--:-- --:--:--     0
 51  197M   51  102M    0     0   106M      0  0:00:01 --:--:--  0:00:01  106M
 93  197M   93  184M    0     0  94.3M      0  0:00:02  0:00:01  0:00:01 94.2M
100  197M  100  197M    0     0  91.5M      0  0:00:02  0:00:02 --:--:-- 91.5M

install for i386

* installing *source* package 'BeadArrayUseCases' ...
** using staged installation
** inst
** help
No man pages found in package  'BeadArrayUseCases' 
*** installing help indices
** building package indices
** installing vignettes
** testing if installed package can be loaded from temporary location
** testing if installed package can be loaded from final location
** testing if installed package keeps a record of temporary installation path

install for x64

* installing *source* package 'BeadArrayUseCases' ...
** testing if installed package can be loaded
* MD5 sums
packaged installation of 'BeadArrayUseCases' as BeadArrayUseCases_1.29.0.zip
* DONE (BeadArrayUseCases)
* installing to library 'D:/biocbuild/bbs-3.13-bioc/R/library'
package 'BeadArrayUseCases' successfully unpacked and MD5 sums checked