Back to Multiple platform build/check report for BioC 3.13 experimental data
A[B]CDEFGHIJKLMNOPQRSTUVWXYZ

CHECK report for BeadArrayUseCases on riesling1

This page was generated on 2021-01-21 16:01:24 -0500 (Thu, 21 Jan 2021).

TO THE DEVELOPERS/MAINTAINERS OF THE BeadArrayUseCases PACKAGE: Please make sure to use the following settings in order to reproduce any error or warning you see on this page.
Package 24/386HostnameOS / ArchINSTALLBUILDCHECK
BeadArrayUseCases 1.29.0
Mike Smith
Snapshot Date: 2021-01-21 09:00:14 -0500 (Thu, 21 Jan 2021)
URL: https://git.bioconductor.org/packages/BeadArrayUseCases
Branch: master
Last Commit: 9416683
Last Changed Date: 2020-10-27 09:54:12 -0500 (Tue, 27 Oct 2020)
malbec2 Linux (Ubuntu 20.04.1 LTS) / x86_64  OK  OK  OK UNNEEDED, same version exists in internal repository
riesling1 Windows Server 2019 Standard / x64  OK  OK [ OK ]

Summary

Package: BeadArrayUseCases
Version: 1.29.0
Command: D:\biocbuild\bbs-3.13-bioc\R\bin\R.exe CMD check --force-multiarch --install=check:BeadArrayUseCases.install-out.txt --library=D:\biocbuild\bbs-3.13-bioc\R\library --no-vignettes --timings BeadArrayUseCases_1.29.0.tar.gz
StartedAt: 2021-01-21 11:12:14 -0500 (Thu, 21 Jan 2021)
EndedAt: 2021-01-21 11:13:04 -0500 (Thu, 21 Jan 2021)
EllapsedTime: 50.0 seconds
RetCode: 0
Status:  OK  
CheckDir: BeadArrayUseCases.Rcheck
Warnings: 0

Command output

##############################################################################
##############################################################################
###
### Running command:
###
###   D:\biocbuild\bbs-3.13-bioc\R\bin\R.exe CMD check --force-multiarch --install=check:BeadArrayUseCases.install-out.txt --library=D:\biocbuild\bbs-3.13-bioc\R\library --no-vignettes --timings BeadArrayUseCases_1.29.0.tar.gz
###
##############################################################################
##############################################################################


* using log directory 'D:/biocbuild/bbs-3.13-data-experiment/meat/BeadArrayUseCases.Rcheck'
* using R Under development (unstable) (2020-12-30 r79736)
* using platform: x86_64-w64-mingw32 (64-bit)
* using session charset: ISO8859-1
* using option '--no-vignettes'
* checking for file 'BeadArrayUseCases/DESCRIPTION' ... OK
* this is package 'BeadArrayUseCases' version '1.29.0'
* checking package namespace information ... OK
* checking package dependencies ... OK
* checking if this is a source package ... OK
* checking if there is a namespace ... OK
* checking for hidden files and directories ... OK
* checking for portable file names ... OK
* checking whether package 'BeadArrayUseCases' can be installed ... OK
* checking installed package size ... NOTE
  installed size is 276.7Mb
  sub-directories of 1Mb or more:
    extdata  276.7Mb
* checking package directory ... OK
* checking 'build' directory ... OK
* checking DESCRIPTION meta-information ... NOTE
Malformed Description field: should contain one or more complete sentences.
* checking top-level files ... OK
* checking for left-over files ... OK
* checking index information ... OK
* checking package subdirectories ... OK
* loading checks for arch 'i386'
** checking whether the package can be loaded ... OK
** checking whether the package can be loaded with stated dependencies ... OK
** checking whether the package can be unloaded cleanly ... OK
** checking whether the namespace can be loaded with stated dependencies ... OK
** checking whether the namespace can be unloaded cleanly ... OK
* loading checks for arch 'x64'
** checking whether the package can be loaded ... OK
** checking whether the package can be loaded with stated dependencies ... OK
** checking whether the package can be unloaded cleanly ... OK
** checking whether the namespace can be loaded with stated dependencies ... OK
** checking whether the namespace can be unloaded cleanly ... OK
* checking files in 'vignettes' ... OK
* checking examples ... NONE
* checking for unstated dependencies in vignettes ... OK
* checking package vignettes in 'inst/doc' ... OK
* checking running R code from vignettes ... SKIPPED
* checking re-building of vignette outputs ... SKIPPED
* checking PDF version of manual ... OK
* DONE

Status: 2 NOTEs
See
  'D:/biocbuild/bbs-3.13-data-experiment/meat/BeadArrayUseCases.Rcheck/00check.log'
for details.



Installation output

BeadArrayUseCases.Rcheck/00install.out

##############################################################################
##############################################################################
###
### Running command:
###
###   C:\cygwin\bin\curl.exe -O http://172.29.0.4/BBS/3.13/data-experiment/src/contrib/BeadArrayUseCases_1.29.0.tar.gz && rm -rf BeadArrayUseCases.buildbin-libdir && mkdir BeadArrayUseCases.buildbin-libdir && D:\biocbuild\bbs-3.13-bioc\R\bin\R.exe CMD INSTALL --merge-multiarch --build --library=BeadArrayUseCases.buildbin-libdir BeadArrayUseCases_1.29.0.tar.gz && D:\biocbuild\bbs-3.13-bioc\R\bin\R.exe CMD INSTALL BeadArrayUseCases_1.29.0.zip && rm BeadArrayUseCases_1.29.0.tar.gz BeadArrayUseCases_1.29.0.zip
###
##############################################################################
##############################################################################


  % Total    % Received % Xferd  Average Speed   Time    Time     Time  Current
                                 Dload  Upload   Total   Spent    Left  Speed

  0     0    0     0    0     0      0      0 --:--:-- --:--:-- --:--:--     0
  4  197M    4 8484k    0     0  13.5M      0  0:00:14 --:--:--  0:00:14 13.5M
 60  197M   60  120M    0     0  75.1M      0  0:00:02  0:00:01  0:00:01 75.0M
100  197M  100  197M    0     0  86.4M      0  0:00:02  0:00:02 --:--:-- 86.4M

install for i386

* installing *source* package 'BeadArrayUseCases' ...
** using staged installation
** inst
** help
No man pages found in package  'BeadArrayUseCases' 
*** installing help indices
** building package indices
** installing vignettes
** testing if installed package can be loaded from temporary location
** testing if installed package can be loaded from final location
** testing if installed package keeps a record of temporary installation path

install for x64

* installing *source* package 'BeadArrayUseCases' ...
** testing if installed package can be loaded
* MD5 sums
packaged installation of 'BeadArrayUseCases' as BeadArrayUseCases_1.29.0.zip
* DONE (BeadArrayUseCases)
* installing to library 'D:/biocbuild/bbs-3.13-bioc/R/library'
package 'BeadArrayUseCases' successfully unpacked and MD5 sums checked

Tests output


Example timings