Back to Multiple platform build/check report for BioC 3.13 experimental data |
|
This page was generated on 2021-01-14 15:59:06 -0500 (Thu, 14 Jan 2021).
TO THE DEVELOPERS/MAINTAINERS OF THE BeadArrayUseCases PACKAGE: Please make sure to use the following settings in order to reproduce any error or warning you see on this page. |
Package 24/385 | Hostname | OS / Arch | INSTALL | BUILD | CHECK | ||||||
BeadArrayUseCases 1.29.0 Mike Smith
| malbec2 | Linux (Ubuntu 20.04.1 LTS) / x86_64 | OK | OK | OK | ![]() | |||||
riesling1 | Windows Server 2019 Standard / x64 | OK | [ OK ] | OK |
Package: BeadArrayUseCases |
Version: 1.29.0 |
Command: chmod a+r BeadArrayUseCases -R && D:\biocbuild\bbs-3.13-bioc\R\bin\R.exe CMD build --keep-empty-dirs --no-resave-data BeadArrayUseCases |
StartedAt: 2021-01-14 10:25:03 -0500 (Thu, 14 Jan 2021) |
EndedAt: 2021-01-14 10:33:07 -0500 (Thu, 14 Jan 2021) |
EllapsedTime: 484.0 seconds |
RetCode: 0 |
Status: OK |
PackageFile: BeadArrayUseCases_1.29.0.tar.gz |
PackageFileSize: 197.6 MiB |
############################################################################## ############################################################################## ### ### Running command: ### ### chmod a+r BeadArrayUseCases -R && D:\biocbuild\bbs-3.13-bioc\R\bin\R.exe CMD build --keep-empty-dirs --no-resave-data BeadArrayUseCases ### ############################################################################## ############################################################################## * checking for file 'BeadArrayUseCases/DESCRIPTION' ... OK * preparing 'BeadArrayUseCases': * checking DESCRIPTION meta-information ... OK * installing the package to build vignettes * creating vignettes ... OK * checking for LF line-endings in source and make files and shell scripts * checking for empty or unneeded directories * building 'BeadArrayUseCases_1.29.0.tar.gz'