Back to Multiple platform build/check report for BioC 3.13 experimental data |
|
This page was generated on 2021-01-14 15:59:06 -0500 (Thu, 14 Jan 2021).
TO THE DEVELOPERS/MAINTAINERS OF THE AssessORFData PACKAGE: Please make sure to use the following settings in order to reproduce any error or warning you see on this page. |
Package 21/385 | Hostname | OS / Arch | INSTALL | BUILD | CHECK | ||||||
AssessORFData 1.9.0 Deepank Korandla
| malbec2 | Linux (Ubuntu 20.04.1 LTS) / x86_64 | OK | OK | OK | ![]() | |||||
riesling1 | Windows Server 2019 Standard / x64 | OK | [ OK ] | OK |
Package: AssessORFData |
Version: 1.9.0 |
Command: chmod a+r AssessORFData -R && D:\biocbuild\bbs-3.13-bioc\R\bin\R.exe CMD build --keep-empty-dirs --no-resave-data AssessORFData |
StartedAt: 2021-01-14 10:24:57 -0500 (Thu, 14 Jan 2021) |
EndedAt: 2021-01-14 10:27:07 -0500 (Thu, 14 Jan 2021) |
EllapsedTime: 130.4 seconds |
RetCode: 0 |
Status: OK |
PackageFile: AssessORFData_1.9.0.tar.gz |
PackageFileSize: 144.6 MiB |
############################################################################## ############################################################################## ### ### Running command: ### ### chmod a+r AssessORFData -R && D:\biocbuild\bbs-3.13-bioc\R\bin\R.exe CMD build --keep-empty-dirs --no-resave-data AssessORFData ### ############################################################################## ############################################################################## * checking for file 'AssessORFData/DESCRIPTION' ... OK * preparing 'AssessORFData': * checking DESCRIPTION meta-information ... OK * installing the package to build vignettes * creating vignettes ... OK * checking for LF line-endings in source and make files and shell scripts * checking for empty or unneeded directories * looking to see if a 'data/datalist' file should be added * building 'AssessORFData_1.9.0.tar.gz'