Back to Multiple platform build/check report for BioC 3.13 experimental data
[A]BCDEFGHIJKLMNOPQRSTUVWXYZ

INSTALL report for AshkenazimSonChr21 on riesling1

This page was generated on 2021-01-14 15:59:06 -0500 (Thu, 14 Jan 2021).

TO THE DEVELOPERS/MAINTAINERS OF THE AshkenazimSonChr21 PACKAGE: Please make sure to use the following settings in order to reproduce any error or warning you see on this page.
Package 19/385HostnameOS / ArchINSTALLBUILDCHECK
AshkenazimSonChr21 1.21.0
Who to complain to
Snapshot Date: 2021-01-14 09:00:13 -0500 (Thu, 14 Jan 2021)
URL: https://git.bioconductor.org/packages/AshkenazimSonChr21
Branch: master
Last Commit: d530d6e
Last Changed Date: 2020-10-27 10:13:29 -0500 (Tue, 27 Oct 2020)
malbec2 Linux (Ubuntu 20.04.1 LTS) / x86_64  OK  OK  OK UNNEEDED, same version exists in internal repository
riesling1 Windows Server 2019 Standard / x64 [ OK ] OK  OK 

Summary

Package: AshkenazimSonChr21
Version: 1.21.0
Command: C:\cygwin\bin\curl.exe -O http://172.29.0.4/BBS/3.13/data-experiment/src/contrib/AshkenazimSonChr21_1.21.0.tar.gz && rm -rf AshkenazimSonChr21.buildbin-libdir && mkdir AshkenazimSonChr21.buildbin-libdir && D:\biocbuild\bbs-3.13-bioc\R\bin\R.exe CMD INSTALL --merge-multiarch --build --library=AshkenazimSonChr21.buildbin-libdir AshkenazimSonChr21_1.21.0.tar.gz && D:\biocbuild\bbs-3.13-bioc\R\bin\R.exe CMD INSTALL AshkenazimSonChr21_1.21.0.zip && rm AshkenazimSonChr21_1.21.0.tar.gz AshkenazimSonChr21_1.21.0.zip
StartedAt: 2021-01-14 10:08:02 -0500 (Thu, 14 Jan 2021)
EndedAt: 2021-01-14 10:08:08 -0500 (Thu, 14 Jan 2021)
EllapsedTime: 6.4 seconds
RetCode: 0
Status:  OK  

Command output

##############################################################################
##############################################################################
###
### Running command:
###
###   C:\cygwin\bin\curl.exe -O http://172.29.0.4/BBS/3.13/data-experiment/src/contrib/AshkenazimSonChr21_1.21.0.tar.gz && rm -rf AshkenazimSonChr21.buildbin-libdir && mkdir AshkenazimSonChr21.buildbin-libdir && D:\biocbuild\bbs-3.13-bioc\R\bin\R.exe CMD INSTALL --merge-multiarch --build --library=AshkenazimSonChr21.buildbin-libdir AshkenazimSonChr21_1.21.0.tar.gz && D:\biocbuild\bbs-3.13-bioc\R\bin\R.exe CMD INSTALL AshkenazimSonChr21_1.21.0.zip && rm AshkenazimSonChr21_1.21.0.tar.gz AshkenazimSonChr21_1.21.0.zip
###
##############################################################################
##############################################################################


  % Total    % Received % Xferd  Average Speed   Time    Time     Time  Current
                                 Dload  Upload   Total   Spent    Left  Speed

  0     0    0     0    0     0      0      0 --:--:-- --:--:-- --:--:--     0
 62 9894k   62 6168k    0     0  12.5M      0 --:--:-- --:--:-- --:--:-- 12.5M
100 9894k  100 9894k    0     0  15.2M      0 --:--:-- --:--:-- --:--:-- 15.2M

install for i386

* installing *source* package 'AshkenazimSonChr21' ...
** using staged installation
** data
*** moving datasets to lazyload DB
** inst
** help
*** installing help indices
  converting help for package 'AshkenazimSonChr21'
    finding HTML links ... done
    SonVariantsChr21                        html  
REDIRECT:topic	 SonVariantsChr21 -> SonVariantsChr21.html [ SUCCESS ]
** building package indices
** installing vignettes
** testing if installed package can be loaded from temporary location
** testing if installed package can be loaded from final location
** testing if installed package keeps a record of temporary installation path

install for x64

* installing *source* package 'AshkenazimSonChr21' ...
** testing if installed package can be loaded
* MD5 sums
packaged installation of 'AshkenazimSonChr21' as AshkenazimSonChr21_1.21.0.zip
* DONE (AshkenazimSonChr21)
* installing to library 'D:/biocbuild/bbs-3.13-bioc/R/library'
package 'AshkenazimSonChr21' successfully unpacked and MD5 sums checked