Back to Multiple platform build/check report for BioC 3.13 experimental data |
|
This page was generated on 2021-01-21 16:01:24 -0500 (Thu, 21 Jan 2021).
TO THE DEVELOPERS/MAINTAINERS OF THE AshkenazimSonChr21 PACKAGE: Please make sure to use the following settings in order to reproduce any error or warning you see on this page. |
Package 19/386 | Hostname | OS / Arch | INSTALL | BUILD | CHECK | ||||||
AshkenazimSonChr21 1.21.0 Who to complain to
| malbec2 | Linux (Ubuntu 20.04.1 LTS) / x86_64 | OK | OK | OK | ![]() | |||||
riesling1 | Windows Server 2019 Standard / x64 | OK | [ OK ] | OK |
Package: AshkenazimSonChr21 |
Version: 1.21.0 |
Command: chmod a+r AshkenazimSonChr21 -R && D:\biocbuild\bbs-3.13-bioc\R\bin\R.exe CMD build --keep-empty-dirs --no-resave-data AshkenazimSonChr21 |
StartedAt: 2021-01-21 10:27:03 -0500 (Thu, 21 Jan 2021) |
EndedAt: 2021-01-21 10:27:27 -0500 (Thu, 21 Jan 2021) |
EllapsedTime: 24.8 seconds |
RetCode: 0 |
Status: OK |
PackageFile: AshkenazimSonChr21_1.21.0.tar.gz |
PackageFileSize: 9.753 MiB |
############################################################################## ############################################################################## ### ### Running command: ### ### chmod a+r AshkenazimSonChr21 -R && D:\biocbuild\bbs-3.13-bioc\R\bin\R.exe CMD build --keep-empty-dirs --no-resave-data AshkenazimSonChr21 ### ############################################################################## ############################################################################## * checking for file 'AshkenazimSonChr21/DESCRIPTION' ... OK * preparing 'AshkenazimSonChr21': * checking DESCRIPTION meta-information ... OK * installing the package to build vignettes * creating vignettes ... OK * checking for LF line-endings in source and make files and shell scripts * checking for empty or unneeded directories * building 'AshkenazimSonChr21_1.21.0.tar.gz'