Back to Multiple platform build/check report for BioC 3.13 experimental data
[A]BCDEFGHIJKLMNOPQRSTUVWXYZ

INSTALL report for AneuFinderData on riesling1

This page was generated on 2021-01-14 15:59:06 -0500 (Thu, 14 Jan 2021).

TO THE DEVELOPERS/MAINTAINERS OF THE AneuFinderData PACKAGE: Please make sure to use the following settings in order to reproduce any error or warning you see on this page.
Package 15/385HostnameOS / ArchINSTALLBUILDCHECK
AneuFinderData 1.19.0
Aaron Taudt
Snapshot Date: 2021-01-14 09:00:13 -0500 (Thu, 14 Jan 2021)
URL: https://git.bioconductor.org/packages/AneuFinderData
Branch: master
Last Commit: 31d0d3f
Last Changed Date: 2020-10-27 10:18:25 -0500 (Tue, 27 Oct 2020)
malbec2 Linux (Ubuntu 20.04.1 LTS) / x86_64  OK  OK  WARNINGS UNNEEDED, same version exists in internal repository
riesling1 Windows Server 2019 Standard / x64 [ OK ] OK  WARNINGS 

Summary

Package: AneuFinderData
Version: 1.19.0
Command: C:\cygwin\bin\curl.exe -O http://172.29.0.4/BBS/3.13/data-experiment/src/contrib/AneuFinderData_1.19.0.tar.gz && rm -rf AneuFinderData.buildbin-libdir && mkdir AneuFinderData.buildbin-libdir && D:\biocbuild\bbs-3.13-bioc\R\bin\R.exe CMD INSTALL --merge-multiarch --build --library=AneuFinderData.buildbin-libdir AneuFinderData_1.19.0.tar.gz && D:\biocbuild\bbs-3.13-bioc\R\bin\R.exe CMD INSTALL AneuFinderData_1.19.0.zip && rm AneuFinderData_1.19.0.tar.gz AneuFinderData_1.19.0.zip
StartedAt: 2021-01-14 10:04:37 -0500 (Thu, 14 Jan 2021)
EndedAt: 2021-01-14 10:05:08 -0500 (Thu, 14 Jan 2021)
EllapsedTime: 30.4 seconds
RetCode: 0
Status:  OK  

Command output

##############################################################################
##############################################################################
###
### Running command:
###
###   C:\cygwin\bin\curl.exe -O http://172.29.0.4/BBS/3.13/data-experiment/src/contrib/AneuFinderData_1.19.0.tar.gz && rm -rf AneuFinderData.buildbin-libdir && mkdir AneuFinderData.buildbin-libdir && D:\biocbuild\bbs-3.13-bioc\R\bin\R.exe CMD INSTALL --merge-multiarch --build --library=AneuFinderData.buildbin-libdir AneuFinderData_1.19.0.tar.gz && D:\biocbuild\bbs-3.13-bioc\R\bin\R.exe CMD INSTALL AneuFinderData_1.19.0.zip && rm AneuFinderData_1.19.0.tar.gz AneuFinderData_1.19.0.zip
###
##############################################################################
##############################################################################


  % Total    % Received % Xferd  Average Speed   Time    Time     Time  Current
                                 Dload  Upload   Total   Spent    Left  Speed

  0     0    0     0    0     0      0      0 --:--:-- --:--:-- --:--:--     0
 74 57.0M   74 42.2M    0     0  53.0M      0  0:00:01 --:--:--  0:00:01 52.9M
100 57.0M  100 57.0M    0     0  61.5M      0 --:--:-- --:--:-- --:--:-- 61.4M

install for i386

* installing *source* package 'AneuFinderData' ...
** using staged installation
** R
** inst
** byte-compile and prepare package for lazy loading
** help
*** installing help indices
  converting help for package 'AneuFinderData'
    finding HTML links ... done
    BB150803_IV_074                         html  
REDIRECT:topic	 BB150803_IV_074 -> BB150803_IV_074.html [ SUCCESS ]
REDIRECT:topic	 bam -> BB150803_IV_074.html [ SUCCESS ]
    KK150311_VI_07                          html  
REDIRECT:topic	 KK150311_VI_07 -> KK150311_VI_07.html [ SUCCESS ]
REDIRECT:topic	 bed -> KK150311_VI_07.html [ SUCCESS ]
    hg19_diploid                            html  
REDIRECT:topic	 diploid -> hg19_diploid.html [ SUCCESS ]
REDIRECT:topic	 hg19_diploid -> hg19_diploid.html [ SUCCESS ]
    metastasis_liver                        html  
REDIRECT:topic	 liver -> metastasis_liver.html [ SUCCESS ]
REDIRECT:topic	 metastasis -> metastasis_liver.html [ SUCCESS ]
REDIRECT:topic	 metastasis_liver -> metastasis_liver.html [ SUCCESS ]
    primary_lung                            html  
REDIRECT:topic	 lung -> primary_lung.html [ SUCCESS ]
REDIRECT:topic	 primary -> primary_lung.html [ SUCCESS ]
REDIRECT:topic	 primary_lung -> primary_lung.html [ SUCCESS ]
** building package indices
** installing vignettes
** testing if installed package can be loaded from temporary location
** testing if installed package can be loaded from final location
** testing if installed package keeps a record of temporary installation path

install for x64

* installing *source* package 'AneuFinderData' ...
** testing if installed package can be loaded
* MD5 sums
packaged installation of 'AneuFinderData' as AneuFinderData_1.19.0.zip
* DONE (AneuFinderData)
* installing to library 'D:/biocbuild/bbs-3.13-bioc/R/library'
package 'AneuFinderData' successfully unpacked and MD5 sums checked