Back to Multiple platform build/check report for BioC 3.13 experimental data
[A]BCDEFGHIJKLMNOPQRSTUVWXYZ

BUILD report for AneuFinderData on riesling1

This page was generated on 2021-01-14 15:59:06 -0500 (Thu, 14 Jan 2021).

TO THE DEVELOPERS/MAINTAINERS OF THE AneuFinderData PACKAGE: Please make sure to use the following settings in order to reproduce any error or warning you see on this page.
Package 15/385HostnameOS / ArchINSTALLBUILDCHECK
AneuFinderData 1.19.0
Aaron Taudt
Snapshot Date: 2021-01-14 09:00:13 -0500 (Thu, 14 Jan 2021)
URL: https://git.bioconductor.org/packages/AneuFinderData
Branch: master
Last Commit: 31d0d3f
Last Changed Date: 2020-10-27 10:18:25 -0500 (Tue, 27 Oct 2020)
malbec2 Linux (Ubuntu 20.04.1 LTS) / x86_64  OK  OK  WARNINGS UNNEEDED, same version exists in internal repository
riesling1 Windows Server 2019 Standard / x64  OK [ OK ] WARNINGS 

Summary

Package: AneuFinderData
Version: 1.19.0
Command: chmod a+r AneuFinderData -R && D:\biocbuild\bbs-3.13-bioc\R\bin\R.exe CMD build --keep-empty-dirs --no-resave-data AneuFinderData
StartedAt: 2021-01-14 10:24:32 -0500 (Thu, 14 Jan 2021)
EndedAt: 2021-01-14 10:24:52 -0500 (Thu, 14 Jan 2021)
EllapsedTime: 20.7 seconds
RetCode: 0
Status:  OK  
PackageFile: AneuFinderData_1.19.0.tar.gz
PackageFileSize: 57.02 MiB

Command output

##############################################################################
##############################################################################
###
### Running command:
###
###   chmod a+r AneuFinderData -R && D:\biocbuild\bbs-3.13-bioc\R\bin\R.exe CMD build --keep-empty-dirs --no-resave-data AneuFinderData
###
##############################################################################
##############################################################################


* checking for file 'AneuFinderData/DESCRIPTION' ... OK
* preparing 'AneuFinderData':
* checking DESCRIPTION meta-information ... OK
* checking for LF line-endings in source and make files and shell scripts
* checking for empty or unneeded directories
* building 'AneuFinderData_1.19.0.tar.gz'