Back to Multiple platform build/check report for BioC 3.13 experimental data
[A]BCDEFGHIJKLMNOPQRSTUVWXYZ

INSTALL report for AmpAffyExample on riesling1

This page was generated on 2021-01-11 15:59:28 -0500 (Mon, 11 Jan 2021).

TO THE DEVELOPERS/MAINTAINERS OF THE AmpAffyExample PACKAGE: Please make sure to use the following settings in order to reproduce any error or warning you see on this page.
Package 14/385HostnameOS / ArchINSTALLBUILDCHECK
AmpAffyExample 1.31.0
Rafael A. Irizarry
Snapshot Date: 2021-01-11 09:00:09 -0500 (Mon, 11 Jan 2021)
URL: https://git.bioconductor.org/packages/AmpAffyExample
Branch: master
Last Commit: 5bf96c0
Last Changed Date: 2020-10-27 09:44:46 -0500 (Tue, 27 Oct 2020)
malbec2 Linux (Ubuntu 20.04.1 LTS) / x86_64  OK  OK  WARNINGS UNNEEDED, same version exists in internal repository
riesling1 Windows Server 2019 Standard / x64 [ OK ] OK  WARNINGS 

Summary

Package: AmpAffyExample
Version: 1.31.0
Command: C:\cygwin\bin\curl.exe -O http://172.29.0.4/BBS/3.13/data-experiment/src/contrib/AmpAffyExample_1.31.0.tar.gz && rm -rf AmpAffyExample.buildbin-libdir && mkdir AmpAffyExample.buildbin-libdir && D:\biocbuild\bbs-3.13-bioc\R\bin\R.exe CMD INSTALL --merge-multiarch --build --library=AmpAffyExample.buildbin-libdir AmpAffyExample_1.31.0.tar.gz && D:\biocbuild\bbs-3.13-bioc\R\bin\R.exe CMD INSTALL AmpAffyExample_1.31.0.zip && rm AmpAffyExample_1.31.0.tar.gz AmpAffyExample_1.31.0.zip
StartedAt: 2021-01-11 10:05:30 -0500 (Mon, 11 Jan 2021)
EndedAt: 2021-01-11 10:06:03 -0500 (Mon, 11 Jan 2021)
EllapsedTime: 32.5 seconds
RetCode: 0
Status:  OK  

Command output

##############################################################################
##############################################################################
###
### Running command:
###
###   C:\cygwin\bin\curl.exe -O http://172.29.0.4/BBS/3.13/data-experiment/src/contrib/AmpAffyExample_1.31.0.tar.gz && rm -rf AmpAffyExample.buildbin-libdir && mkdir AmpAffyExample.buildbin-libdir && D:\biocbuild\bbs-3.13-bioc\R\bin\R.exe CMD INSTALL --merge-multiarch --build --library=AmpAffyExample.buildbin-libdir AmpAffyExample_1.31.0.tar.gz && D:\biocbuild\bbs-3.13-bioc\R\bin\R.exe CMD INSTALL AmpAffyExample_1.31.0.zip && rm AmpAffyExample_1.31.0.tar.gz AmpAffyExample_1.31.0.zip
###
##############################################################################
##############################################################################


  % Total    % Received % Xferd  Average Speed   Time    Time     Time  Current
                                 Dload  Upload   Total   Spent    Left  Speed

  0     0    0     0    0     0      0      0 --:--:-- --:--:-- --:--:--     0
 12 6619k   12  829k    0     0  4046k      0  0:00:01 --:--:--  0:00:01 4027k
100 6619k  100 6619k    0     0  12.3M      0 --:--:-- --:--:-- --:--:-- 12.2M

install for i386

* installing *source* package 'AmpAffyExample' ...
** using staged installation
** data
** help
*** installing help indices
  converting help for package 'AmpAffyExample'
    finding HTML links ... done
    AmpData                                 html  
REDIRECT:topic	 AmpData -> AmpData.html [ SUCCESS ]
** building package indices
** testing if installed package can be loaded from temporary location
** testing if installed package can be loaded from final location
** testing if installed package keeps a record of temporary installation path

install for x64

* installing *source* package 'AmpAffyExample' ...
** testing if installed package can be loaded
* MD5 sums
packaged installation of 'AmpAffyExample' as AmpAffyExample_1.31.0.zip
* DONE (AmpAffyExample)
* installing to library 'D:/biocbuild/bbs-3.13-bioc/R/library'
package 'AmpAffyExample' successfully unpacked and MD5 sums checked