Back to Multiple platform build/check report for BioC 3.13 experimental data |
|
This page was generated on 2021-01-11 15:59:28 -0500 (Mon, 11 Jan 2021).
TO THE DEVELOPERS/MAINTAINERS OF THE AmpAffyExample PACKAGE: Please make sure to use the following settings in order to reproduce any error or warning you see on this page. |
Package 14/385 | Hostname | OS / Arch | INSTALL | BUILD | CHECK | ||||||
AmpAffyExample 1.31.0 Rafael A. Irizarry
| malbec2 | Linux (Ubuntu 20.04.1 LTS) / x86_64 | OK | OK | WARNINGS | ![]() | |||||
riesling1 | Windows Server 2019 Standard / x64 | OK | [ OK ] | WARNINGS |
Package: AmpAffyExample |
Version: 1.31.0 |
Command: chmod a+r AmpAffyExample -R && D:\biocbuild\bbs-3.13-bioc\R\bin\R.exe CMD build --keep-empty-dirs --no-resave-data AmpAffyExample |
StartedAt: 2021-01-11 10:29:27 -0500 (Mon, 11 Jan 2021) |
EndedAt: 2021-01-11 10:29:30 -0500 (Mon, 11 Jan 2021) |
EllapsedTime: 3.1 seconds |
RetCode: 0 |
Status: OK |
PackageFile: AmpAffyExample_1.31.0.tar.gz |
PackageFileSize: 6.464 MiB |
############################################################################## ############################################################################## ### ### Running command: ### ### chmod a+r AmpAffyExample -R && D:\biocbuild\bbs-3.13-bioc\R\bin\R.exe CMD build --keep-empty-dirs --no-resave-data AmpAffyExample ### ############################################################################## ############################################################################## * checking for file 'AmpAffyExample/DESCRIPTION' ... OK * preparing 'AmpAffyExample': * checking DESCRIPTION meta-information ... OK * checking for LF line-endings in source and make files and shell scripts * checking for empty or unneeded directories * looking to see if a 'data/datalist' file should be added * building 'AmpAffyExample_1.31.0.tar.gz'