Back to Multiple platform build/check report for BioC 3.13 experimental data
[A]BCDEFGHIJKLMNOPQRSTUVWXYZ

INSTALL report for Affymoe4302Expr on riesling1

This page was generated on 2021-01-14 15:59:06 -0500 (Thu, 14 Jan 2021).

TO THE DEVELOPERS/MAINTAINERS OF THE Affymoe4302Expr PACKAGE: Please make sure to use the following settings in order to reproduce any error or warning you see on this page.
Package 9/385HostnameOS / ArchINSTALLBUILDCHECK
Affymoe4302Expr 1.29.0
Zhicheng Ji
Snapshot Date: 2021-01-14 09:00:13 -0500 (Thu, 14 Jan 2021)
URL: https://git.bioconductor.org/packages/Affymoe4302Expr
Branch: master
Last Commit: ddab6bb
Last Changed Date: 2020-10-27 10:07:56 -0500 (Tue, 27 Oct 2020)
malbec2 Linux (Ubuntu 20.04.1 LTS) / x86_64  OK  OK  OK UNNEEDED, same version exists in internal repository
riesling1 Windows Server 2019 Standard / x64 [ OK ] OK  OK 

Summary

Package: Affymoe4302Expr
Version: 1.29.0
Command: C:\cygwin\bin\curl.exe -O http://172.29.0.4/BBS/3.13/data-experiment/src/contrib/Affymoe4302Expr_1.29.0.tar.gz && rm -rf Affymoe4302Expr.buildbin-libdir && mkdir Affymoe4302Expr.buildbin-libdir && D:\biocbuild\bbs-3.13-bioc\R\bin\R.exe CMD INSTALL --merge-multiarch --build --library=Affymoe4302Expr.buildbin-libdir Affymoe4302Expr_1.29.0.tar.gz && D:\biocbuild\bbs-3.13-bioc\R\bin\R.exe CMD INSTALL Affymoe4302Expr_1.29.0.zip && rm Affymoe4302Expr_1.29.0.tar.gz Affymoe4302Expr_1.29.0.zip
StartedAt: 2021-01-14 10:04:08 -0500 (Thu, 14 Jan 2021)
EndedAt: 2021-01-14 10:05:50 -0500 (Thu, 14 Jan 2021)
EllapsedTime: 101.6 seconds
RetCode: 0
Status:  OK  

Command output

##############################################################################
##############################################################################
###
### Running command:
###
###   C:\cygwin\bin\curl.exe -O http://172.29.0.4/BBS/3.13/data-experiment/src/contrib/Affymoe4302Expr_1.29.0.tar.gz && rm -rf Affymoe4302Expr.buildbin-libdir && mkdir Affymoe4302Expr.buildbin-libdir && D:\biocbuild\bbs-3.13-bioc\R\bin\R.exe CMD INSTALL --merge-multiarch --build --library=Affymoe4302Expr.buildbin-libdir Affymoe4302Expr_1.29.0.tar.gz && D:\biocbuild\bbs-3.13-bioc\R\bin\R.exe CMD INSTALL Affymoe4302Expr_1.29.0.zip && rm Affymoe4302Expr_1.29.0.tar.gz Affymoe4302Expr_1.29.0.zip
###
##############################################################################
##############################################################################


  % Total    % Received % Xferd  Average Speed   Time    Time     Time  Current
                                 Dload  Upload   Total   Spent    Left  Speed

  0     0    0     0    0     0      0      0 --:--:-- --:--:-- --:--:--     0
  0  417M    0 4111k    0     0  55.0M      0  0:00:07 --:--:--  0:00:07 54.2M
 24  417M   24  101M    0     0  93.7M      0  0:00:04  0:00:01  0:00:03 93.6M
 41  417M   41  173M    0     0  81.6M      0  0:00:05  0:00:02  0:00:03 81.6M
 63  417M   63  266M    0     0  86.8M      0  0:00:04  0:00:03  0:00:01 86.7M
 82  417M   82  345M    0     0  84.8M      0  0:00:04  0:00:04 --:--:-- 84.8M
100  417M  100  417M    0     0  88.6M      0  0:00:04  0:00:04 --:--:-- 89.2M

install for i386

* installing *source* package 'Affymoe4302Expr' ...
** using staged installation
** data
** inst
** help
*** installing help indices
  converting help for package 'Affymoe4302Expr'
    finding HTML links ... done
    Affymoe4302Expr-package                 html  
REDIRECT:topic	 Affymoe4302Expr-package -> Affymoe4302Expr-package.html [ SUCCESS ]
    Affymoe4302Expr                         html  
REDIRECT:topic	 Affymoe4302Expr -> Affymoe4302Expr.html [ SUCCESS ]
    Affymoe4302Exprtab                      html  
REDIRECT:topic	 Affymoe4302Exprtab -> Affymoe4302Exprtab.html [ SUCCESS ]
** building package indices
** testing if installed package can be loaded from temporary location
** testing if installed package can be loaded from final location
** testing if installed package keeps a record of temporary installation path

install for x64

* installing *source* package 'Affymoe4302Expr' ...
** testing if installed package can be loaded
* MD5 sums
packaged installation of 'Affymoe4302Expr' as Affymoe4302Expr_1.29.0.zip
* DONE (Affymoe4302Expr)
* installing to library 'D:/biocbuild/bbs-3.13-bioc/R/library'
package 'Affymoe4302Expr' successfully unpacked and MD5 sums checked