Back to Multiple platform build/check report for BioC 3.13 experimental data
[A]BCDEFGHIJKLMNOPQRSTUVWXYZ

CHECK report for AffymetrixDataTestFiles on riesling1

This page was generated on 2021-01-21 16:01:24 -0500 (Thu, 21 Jan 2021).

TO THE DEVELOPERS/MAINTAINERS OF THE AffymetrixDataTestFiles PACKAGE: Please make sure to use the following settings in order to reproduce any error or warning you see on this page.
Package 8/386HostnameOS / ArchINSTALLBUILDCHECK
AffymetrixDataTestFiles 0.29.0
Henrik Bengtsson
Snapshot Date: 2021-01-21 09:00:14 -0500 (Thu, 21 Jan 2021)
URL: https://git.bioconductor.org/packages/AffymetrixDataTestFiles
Branch: master
Last Commit: b0450e1
Last Changed Date: 2020-10-27 09:44:28 -0500 (Tue, 27 Oct 2020)
malbec2 Linux (Ubuntu 20.04.1 LTS) / x86_64  OK  OK  OK UNNEEDED, same version exists in internal repository
riesling1 Windows Server 2019 Standard / x64  OK  OK [ OK ]

Summary

Package: AffymetrixDataTestFiles
Version: 0.29.0
Command: D:\biocbuild\bbs-3.13-bioc\R\bin\R.exe CMD check --force-multiarch --install=check:AffymetrixDataTestFiles.install-out.txt --library=D:\biocbuild\bbs-3.13-bioc\R\library --no-vignettes --timings AffymetrixDataTestFiles_0.29.0.tar.gz
StartedAt: 2021-01-21 11:11:23 -0500 (Thu, 21 Jan 2021)
EndedAt: 2021-01-21 11:12:08 -0500 (Thu, 21 Jan 2021)
EllapsedTime: 44.7 seconds
RetCode: 0
Status:  OK  
CheckDir: AffymetrixDataTestFiles.Rcheck
Warnings: 0

Command output

##############################################################################
##############################################################################
###
### Running command:
###
###   D:\biocbuild\bbs-3.13-bioc\R\bin\R.exe CMD check --force-multiarch --install=check:AffymetrixDataTestFiles.install-out.txt --library=D:\biocbuild\bbs-3.13-bioc\R\library --no-vignettes --timings AffymetrixDataTestFiles_0.29.0.tar.gz
###
##############################################################################
##############################################################################


* using log directory 'D:/biocbuild/bbs-3.13-data-experiment/meat/AffymetrixDataTestFiles.Rcheck'
* using R Under development (unstable) (2020-12-30 r79736)
* using platform: x86_64-w64-mingw32 (64-bit)
* using session charset: ISO8859-1
* using option '--no-vignettes'
* checking for file 'AffymetrixDataTestFiles/DESCRIPTION' ... OK
* this is package 'AffymetrixDataTestFiles' version '0.29.0'
* checking package namespace information ... OK
* checking package dependencies ... OK
* checking if this is a source package ... OK
* checking if there is a namespace ... OK
* checking for hidden files and directories ... OK
* checking for portable file names ... NOTE
Found the following non-portable file paths:
  AffymetrixDataTestFiles/inst/annotationData/chipTypes/HuGene-1_0-st-v1/HuGene-1_0-st-v1.r4,10_probesets.pgf
  AffymetrixDataTestFiles/inst/annotationData/chipTypes/Mapping10K_Xba131/3.ASCII/Mapping10K_Xba131.CDF

Tarballs are only required to store paths of up to 100 bytes and cannot
store those of more than 256 bytes, with restrictions including to 100
bytes for the final component.
See section 'Package structure' in the 'Writing R Extensions' manual.
* checking whether package 'AffymetrixDataTestFiles' can be installed ... OK
* checking installed package size ... NOTE
  installed size is 147.3Mb
  sub-directories of 1Mb or more:
    annotationData  70.7Mb
    gcos11Data      49.4Mb
    gcos14Data       6.7Mb
    rawData         20.5Mb
* checking package directory ... OK
* checking DESCRIPTION meta-information ... OK
* checking top-level files ... OK
* checking for left-over files ... OK
* checking index information ... OK
* checking package subdirectories ... OK
* checking R files for non-ASCII characters ... OK
* checking R files for syntax errors ... OK
* loading checks for arch 'i386'
** checking whether the package can be loaded ... OK
** checking whether the package can be loaded with stated dependencies ... OK
** checking whether the package can be unloaded cleanly ... OK
** checking whether the namespace can be loaded with stated dependencies ... OK
** checking whether the namespace can be unloaded cleanly ... OK
* loading checks for arch 'x64'
** checking whether the package can be loaded ... OK
** checking whether the package can be loaded with stated dependencies ... OK
** checking whether the package can be unloaded cleanly ... OK
** checking whether the namespace can be loaded with stated dependencies ... OK
** checking whether the namespace can be unloaded cleanly ... OK
* checking dependencies in R code ... OK
* checking S3 generic/method consistency ... OK
* checking replacement functions ... OK
* checking foreign function calls ... OK
* checking R code for possible problems ... OK
* checking Rd files ... OK
* checking Rd metadata ... OK
* checking Rd cross-references ... OK
* checking for missing documentation entries ... OK
* checking for code/documentation mismatches ... OK
* checking Rd \usage sections ... OK
* checking Rd contents ... OK
* checking for unstated dependencies in examples ... OK
* checking examples ... NONE
* checking PDF version of manual ... OK
* DONE

Status: 2 NOTEs
See
  'D:/biocbuild/bbs-3.13-data-experiment/meat/AffymetrixDataTestFiles.Rcheck/00check.log'
for details.



Installation output

AffymetrixDataTestFiles.Rcheck/00install.out

##############################################################################
##############################################################################
###
### Running command:
###
###   C:\cygwin\bin\curl.exe -O http://172.29.0.4/BBS/3.13/data-experiment/src/contrib/AffymetrixDataTestFiles_0.29.0.tar.gz && rm -rf AffymetrixDataTestFiles.buildbin-libdir && mkdir AffymetrixDataTestFiles.buildbin-libdir && D:\biocbuild\bbs-3.13-bioc\R\bin\R.exe CMD INSTALL --merge-multiarch --build --library=AffymetrixDataTestFiles.buildbin-libdir AffymetrixDataTestFiles_0.29.0.tar.gz && D:\biocbuild\bbs-3.13-bioc\R\bin\R.exe CMD INSTALL AffymetrixDataTestFiles_0.29.0.zip && rm AffymetrixDataTestFiles_0.29.0.tar.gz AffymetrixDataTestFiles_0.29.0.zip
###
##############################################################################
##############################################################################


  % Total    % Received % Xferd  Average Speed   Time    Time     Time  Current
                                 Dload  Upload   Total   Spent    Left  Speed

  0     0    0     0    0     0      0      0 --:--:-- --:--:-- --:--:--     0
  0 40.3M    0  289k    0     0  1403k      0  0:00:29 --:--:--  0:00:29 1403k
100 40.3M  100 40.3M    0     0  36.6M      0  0:00:01  0:00:01 --:--:-- 36.6M

install for i386

* installing *source* package 'AffymetrixDataTestFiles' ...
** using staged installation
** R
** inst
** byte-compile and prepare package for lazy loading
** help
*** installing help indices
  converting help for package 'AffymetrixDataTestFiles'
    finding HTML links ... done
    AffymetrixDataTestFiles-package         html  
REDIRECT:topic	 AffymetrixDataTestFiles-package -> AffymetrixDataTestFiles-package.html [ SUCCESS ]
REDIRECT:topic	 AffymetrixDataTestFiles -> AffymetrixDataTestFiles-package.html [ SUCCESS ]
** building package indices
** testing if installed package can be loaded from temporary location
** testing if installed package can be loaded from final location
** testing if installed package keeps a record of temporary installation path

install for x64

* installing *source* package 'AffymetrixDataTestFiles' ...
** testing if installed package can be loaded
* MD5 sums
packaged installation of 'AffymetrixDataTestFiles' as AffymetrixDataTestFiles_0.29.0.zip
* DONE (AffymetrixDataTestFiles)
* installing to library 'D:/biocbuild/bbs-3.13-bioc/R/library'
package 'AffymetrixDataTestFiles' successfully unpacked and MD5 sums checked

Tests output


Example timings