Back to Multiple platform build/check report for BioC 3.13 experimental data
[A]BCDEFGHIJKLMNOPQRSTUVWXYZ

INSTALL report for Affyhgu133Plus2Expr on riesling1

This page was generated on 2021-01-14 15:59:06 -0500 (Thu, 14 Jan 2021).

TO THE DEVELOPERS/MAINTAINERS OF THE Affyhgu133Plus2Expr PACKAGE: Please make sure to use the following settings in order to reproduce any error or warning you see on this page.
Package 7/385HostnameOS / ArchINSTALLBUILDCHECK
Affyhgu133Plus2Expr 1.25.0
Zhicheng Ji
Snapshot Date: 2021-01-14 09:00:13 -0500 (Thu, 14 Jan 2021)
URL: https://git.bioconductor.org/packages/Affyhgu133Plus2Expr
Branch: master
Last Commit: cc97d22
Last Changed Date: 2020-10-27 10:08:24 -0500 (Tue, 27 Oct 2020)
malbec2 Linux (Ubuntu 20.04.1 LTS) / x86_64  OK  OK  OK UNNEEDED, same version exists in internal repository
riesling1 Windows Server 2019 Standard / x64 [ OK ] OK  OK 

Summary

Package: Affyhgu133Plus2Expr
Version: 1.25.0
Command: C:\cygwin\bin\curl.exe -O http://172.29.0.4/BBS/3.13/data-experiment/src/contrib/Affyhgu133Plus2Expr_1.25.0.tar.gz && rm -rf Affyhgu133Plus2Expr.buildbin-libdir && mkdir Affyhgu133Plus2Expr.buildbin-libdir && D:\biocbuild\bbs-3.13-bioc\R\bin\R.exe CMD INSTALL --merge-multiarch --build --library=Affyhgu133Plus2Expr.buildbin-libdir Affyhgu133Plus2Expr_1.25.0.tar.gz && D:\biocbuild\bbs-3.13-bioc\R\bin\R.exe CMD INSTALL Affyhgu133Plus2Expr_1.25.0.zip && rm Affyhgu133Plus2Expr_1.25.0.tar.gz Affyhgu133Plus2Expr_1.25.0.zip
StartedAt: 2021-01-14 10:00:59 -0500 (Thu, 14 Jan 2021)
EndedAt: 2021-01-14 10:01:54 -0500 (Thu, 14 Jan 2021)
EllapsedTime: 55.2 seconds
RetCode: 0
Status:  OK  

Command output

##############################################################################
##############################################################################
###
### Running command:
###
###   C:\cygwin\bin\curl.exe -O http://172.29.0.4/BBS/3.13/data-experiment/src/contrib/Affyhgu133Plus2Expr_1.25.0.tar.gz && rm -rf Affyhgu133Plus2Expr.buildbin-libdir && mkdir Affyhgu133Plus2Expr.buildbin-libdir && D:\biocbuild\bbs-3.13-bioc\R\bin\R.exe CMD INSTALL --merge-multiarch --build --library=Affyhgu133Plus2Expr.buildbin-libdir Affyhgu133Plus2Expr_1.25.0.tar.gz && D:\biocbuild\bbs-3.13-bioc\R\bin\R.exe CMD INSTALL Affyhgu133Plus2Expr_1.25.0.zip && rm Affyhgu133Plus2Expr_1.25.0.tar.gz Affyhgu133Plus2Expr_1.25.0.zip
###
##############################################################################
##############################################################################


  % Total    % Received % Xferd  Average Speed   Time    Time     Time  Current
                                 Dload  Upload   Total   Spent    Left  Speed

  0     0    0     0    0     0      0      0 --:--:-- --:--:-- --:--:--     0
  0  224M    0  176k    0     0  4017k      0  0:00:57 --:--:--  0:00:57 3927k
 47  224M   47  105M    0     0   103M      0  0:00:02  0:00:01  0:00:01  103M
 87  224M   87  196M    0     0  96.9M      0  0:00:02  0:00:02 --:--:-- 96.9M
100  224M  100  224M    0     0  90.8M      0  0:00:02  0:00:02 --:--:-- 90.8M

install for i386

* installing *source* package 'Affyhgu133Plus2Expr' ...
** using staged installation
** data
** inst
** help
*** installing help indices
  converting help for package 'Affyhgu133Plus2Expr'
    finding HTML links ... done
    Affyhgu133Plus2Expr-package             html  
REDIRECT:topic	 Affyhgu133Plus2Expr-package -> Affyhgu133Plus2Expr-package.html [ SUCCESS ]
    Affyhgu133Plus2Expr                     html  
REDIRECT:topic	 Affyhgu133Plus2Expr -> Affyhgu133Plus2Expr.html [ SUCCESS ]
    Affyhgu133Plus2Exprtab                  html  
REDIRECT:topic	 Affyhgu133Plus2Exprtab -> Affyhgu133Plus2Exprtab.html [ SUCCESS ]
** building package indices
** testing if installed package can be loaded from temporary location
** testing if installed package can be loaded from final location
** testing if installed package keeps a record of temporary installation path

install for x64

* installing *source* package 'Affyhgu133Plus2Expr' ...
** testing if installed package can be loaded
* MD5 sums
packaged installation of 'Affyhgu133Plus2Expr' as Affyhgu133Plus2Expr_1.25.0.zip
* DONE (Affyhgu133Plus2Expr)
* installing to library 'D:/biocbuild/bbs-3.13-bioc/R/library'
package 'Affyhgu133Plus2Expr' successfully unpacked and MD5 sums checked