Back to Multiple platform build/check report for BioC 3.13 experimental data
[A]BCDEFGHIJKLMNOPQRSTUVWXYZ

INSTALL report for Affyhgu133A2Expr on riesling1

This page was generated on 2021-01-14 15:59:06 -0500 (Thu, 14 Jan 2021).

TO THE DEVELOPERS/MAINTAINERS OF THE Affyhgu133A2Expr PACKAGE: Please make sure to use the following settings in order to reproduce any error or warning you see on this page.
Package 5/385HostnameOS / ArchINSTALLBUILDCHECK
Affyhgu133A2Expr 1.27.0
Zhicheng Ji
Snapshot Date: 2021-01-14 09:00:13 -0500 (Thu, 14 Jan 2021)
URL: https://git.bioconductor.org/packages/Affyhgu133A2Expr
Branch: master
Last Commit: 325a4ba
Last Changed Date: 2020-10-27 10:08:21 -0500 (Tue, 27 Oct 2020)
malbec2 Linux (Ubuntu 20.04.1 LTS) / x86_64  OK  OK  OK UNNEEDED, same version exists in internal repository
riesling1 Windows Server 2019 Standard / x64 [ OK ] OK  OK 

Summary

Package: Affyhgu133A2Expr
Version: 1.27.0
Command: C:\cygwin\bin\curl.exe -O http://172.29.0.4/BBS/3.13/data-experiment/src/contrib/Affyhgu133A2Expr_1.27.0.tar.gz && rm -rf Affyhgu133A2Expr.buildbin-libdir && mkdir Affyhgu133A2Expr.buildbin-libdir && D:\biocbuild\bbs-3.13-bioc\R\bin\R.exe CMD INSTALL --merge-multiarch --build --library=Affyhgu133A2Expr.buildbin-libdir Affyhgu133A2Expr_1.27.0.tar.gz && D:\biocbuild\bbs-3.13-bioc\R\bin\R.exe CMD INSTALL Affyhgu133A2Expr_1.27.0.zip && rm Affyhgu133A2Expr_1.27.0.tar.gz Affyhgu133A2Expr_1.27.0.zip
StartedAt: 2021-01-14 09:48:24 -0500 (Thu, 14 Jan 2021)
EndedAt: 2021-01-14 09:48:36 -0500 (Thu, 14 Jan 2021)
EllapsedTime: 12.1 seconds
RetCode: 0
Status:  OK  

Command output

##############################################################################
##############################################################################
###
### Running command:
###
###   C:\cygwin\bin\curl.exe -O http://172.29.0.4/BBS/3.13/data-experiment/src/contrib/Affyhgu133A2Expr_1.27.0.tar.gz && rm -rf Affyhgu133A2Expr.buildbin-libdir && mkdir Affyhgu133A2Expr.buildbin-libdir && D:\biocbuild\bbs-3.13-bioc\R\bin\R.exe CMD INSTALL --merge-multiarch --build --library=Affyhgu133A2Expr.buildbin-libdir Affyhgu133A2Expr_1.27.0.tar.gz && D:\biocbuild\bbs-3.13-bioc\R\bin\R.exe CMD INSTALL Affyhgu133A2Expr_1.27.0.zip && rm Affyhgu133A2Expr_1.27.0.tar.gz Affyhgu133A2Expr_1.27.0.zip
###
##############################################################################
##############################################################################


  % Total    % Received % Xferd  Average Speed   Time    Time     Time  Current
                                 Dload  Upload   Total   Spent    Left  Speed

  0     0    0     0    0     0      0      0 --:--:-- --:--:-- --:--:--     0
  2 9051k    2  225k    0     0   558k      0  0:00:16 --:--:--  0:00:16  558k
 27 9051k   27 2477k    0     0  1758k      0  0:00:05  0:00:01  0:00:04 1757k
 61 9051k   61 5570k    0     0  2316k      0  0:00:03  0:00:02  0:00:01 2316k
100 9051k  100 9051k    0     0  3184k      0  0:00:02  0:00:02 --:--:-- 3183k

install for i386

* installing *source* package 'Affyhgu133A2Expr' ...
** using staged installation
** data
** inst
** help
*** installing help indices
  converting help for package 'Affyhgu133A2Expr'
    finding HTML links ... done
    Affyhgu133A2Expr-package                html  
REDIRECT:topic	 Affyhgu133A2Expr-package -> Affyhgu133A2Expr-package.html [ SUCCESS ]
    Affyhgu133A2Expr                        html  
REDIRECT:topic	 Affyhgu133A2Expr -> Affyhgu133A2Expr.html [ SUCCESS ]
    Affyhgu133A2Exprtab                     html  
REDIRECT:topic	 Affyhgu133A2Exprtab -> Affyhgu133A2Exprtab.html [ SUCCESS ]
** building package indices
** testing if installed package can be loaded from temporary location
** testing if installed package can be loaded from final location
** testing if installed package keeps a record of temporary installation path

install for x64

* installing *source* package 'Affyhgu133A2Expr' ...
** testing if installed package can be loaded
* MD5 sums
packaged installation of 'Affyhgu133A2Expr' as Affyhgu133A2Expr_1.27.0.zip
* DONE (Affyhgu133A2Expr)
* installing to library 'D:/biocbuild/bbs-3.13-bioc/R/library'
package 'Affyhgu133A2Expr' successfully unpacked and MD5 sums checked