Back to Multiple platform build/check report for BioC 3.13 experimental data
[A]BCDEFGHIJKLMNOPQRSTUVWXYZ

INSTALL report for ASICSdata on riesling1

This page was generated on 2021-01-21 16:01:24 -0500 (Thu, 21 Jan 2021).

TO THE DEVELOPERS/MAINTAINERS OF THE ASICSdata PACKAGE: Please make sure to use the following settings in order to reproduce any error or warning you see on this page.
Package 20/386HostnameOS / ArchINSTALLBUILDCHECK
ASICSdata 1.11.0
Gaƫlle Lefort
Snapshot Date: 2021-01-21 09:00:14 -0500 (Thu, 21 Jan 2021)
URL: https://git.bioconductor.org/packages/ASICSdata
Branch: master
Last Commit: e37e1d2
Last Changed Date: 2020-10-27 10:26:25 -0500 (Tue, 27 Oct 2020)
malbec2 Linux (Ubuntu 20.04.1 LTS) / x86_64  OK  OK  OK UNNEEDED, same version exists in internal repository
riesling1 Windows Server 2019 Standard / x64 [ OK ] OK  OK 

Summary

Package: ASICSdata
Version: 1.11.0
Command: C:\cygwin\bin\curl.exe -O http://172.29.0.4/BBS/3.13/data-experiment/src/contrib/ASICSdata_1.11.0.tar.gz && rm -rf ASICSdata.buildbin-libdir && mkdir ASICSdata.buildbin-libdir && D:\biocbuild\bbs-3.13-bioc\R\bin\R.exe CMD INSTALL --merge-multiarch --build --library=ASICSdata.buildbin-libdir ASICSdata_1.11.0.tar.gz && D:\biocbuild\bbs-3.13-bioc\R\bin\R.exe CMD INSTALL ASICSdata_1.11.0.zip && rm ASICSdata_1.11.0.tar.gz ASICSdata_1.11.0.zip
StartedAt: 2021-01-21 09:58:13 -0500 (Thu, 21 Jan 2021)
EndedAt: 2021-01-21 09:58:42 -0500 (Thu, 21 Jan 2021)
EllapsedTime: 28.5 seconds
RetCode: 0
Status:  OK  

Command output

##############################################################################
##############################################################################
###
### Running command:
###
###   C:\cygwin\bin\curl.exe -O http://172.29.0.4/BBS/3.13/data-experiment/src/contrib/ASICSdata_1.11.0.tar.gz && rm -rf ASICSdata.buildbin-libdir && mkdir ASICSdata.buildbin-libdir && D:\biocbuild\bbs-3.13-bioc\R\bin\R.exe CMD INSTALL --merge-multiarch --build --library=ASICSdata.buildbin-libdir ASICSdata_1.11.0.tar.gz && D:\biocbuild\bbs-3.13-bioc\R\bin\R.exe CMD INSTALL ASICSdata_1.11.0.zip && rm ASICSdata_1.11.0.tar.gz ASICSdata_1.11.0.zip
###
##############################################################################
##############################################################################


  % Total    % Received % Xferd  Average Speed   Time    Time     Time  Current
                                 Dload  Upload   Total   Spent    Left  Speed

  0     0    0     0    0     0      0      0 --:--:-- --:--:-- --:--:--     0
 35 21.9M   35 8025k    0     0  19.0M      0  0:00:01 --:--:--  0:00:01 18.9M
100 21.9M  100 21.9M    0     0  38.3M      0 --:--:-- --:--:-- --:--:-- 38.3M

install for i386

* installing *source* package 'ASICSdata' ...
** using staged installation
** R
** inst
** byte-compile and prepare package for lazy loading
** help
*** installing help indices
  converting help for package 'ASICSdata'
    finding HTML links ... done
    designData                              html  
REDIRECT:topic	 designData -> designData.html [ SUCCESS ]
    rawNMRdata                              html  
REDIRECT:topic	 rawNMRdata -> rawNMRdata.html [ SUCCESS ]
    resASICS                                html  
REDIRECT:topic	 resASICS -> resASICS.html [ SUCCESS ]
** building package indices
** installing vignettes
** testing if installed package can be loaded from temporary location
** testing if installed package can be loaded from final location
** testing if installed package keeps a record of temporary installation path

install for x64

* installing *source* package 'ASICSdata' ...
** testing if installed package can be loaded
* MD5 sums
packaged installation of 'ASICSdata' as ASICSdata_1.11.0.zip
* DONE (ASICSdata)
* installing to library 'D:/biocbuild/bbs-3.13-bioc/R/library'
package 'ASICSdata' successfully unpacked and MD5 sums checked