Back to Multiple platform build/check report for BioC 3.13 experimental data
[A]BCDEFGHIJKLMNOPQRSTUVWXYZ

BUILD report for ASICSdata on riesling1

This page was generated on 2021-01-18 15:58:42 -0500 (Mon, 18 Jan 2021).

TO THE DEVELOPERS/MAINTAINERS OF THE ASICSdata PACKAGE: Please make sure to use the following settings in order to reproduce any error or warning you see on this page.
Package 20/385HostnameOS / ArchINSTALLBUILDCHECK
ASICSdata 1.11.0
Gaƫlle Lefort
Snapshot Date: 2021-01-18 09:00:15 -0500 (Mon, 18 Jan 2021)
URL: https://git.bioconductor.org/packages/ASICSdata
Branch: master
Last Commit: e37e1d2
Last Changed Date: 2020-10-27 10:26:25 -0500 (Tue, 27 Oct 2020)
malbec2 Linux (Ubuntu 20.04.1 LTS) / x86_64  OK  OK  OK UNNEEDED, same version exists in internal repository
riesling1 Windows Server 2019 Standard / x64  OK [ OK ] OK 

Summary

Package: ASICSdata
Version: 1.11.0
Command: chmod a+r ASICSdata -R && D:\biocbuild\bbs-3.13-bioc\R\bin\R.exe CMD build --keep-empty-dirs --no-resave-data ASICSdata
StartedAt: 2021-01-18 10:28:35 -0500 (Mon, 18 Jan 2021)
EndedAt: 2021-01-18 10:29:17 -0500 (Mon, 18 Jan 2021)
EllapsedTime: 42.2 seconds
RetCode: 0
Status:  OK  
PackageFile: ASICSdata_1.11.0.tar.gz
PackageFileSize: 22.05 MiB

Command output

##############################################################################
##############################################################################
###
### Running command:
###
###   chmod a+r ASICSdata -R && D:\biocbuild\bbs-3.13-bioc\R\bin\R.exe CMD build --keep-empty-dirs --no-resave-data ASICSdata
###
##############################################################################
##############################################################################


* checking for file 'ASICSdata/DESCRIPTION' ... OK
* preparing 'ASICSdata':
* checking DESCRIPTION meta-information ... OK
* installing the package to build vignettes
* creating vignettes ... OK
* checking for LF line-endings in source and make files and shell scripts
* checking for empty or unneeded directories
* building 'ASICSdata_1.11.0.tar.gz'