Back to Multiple platform build/check report for BioC 3.13 experimental data
[A]BCDEFGHIJKLMNOPQRSTUVWXYZ

INSTALL report for ARRmData on riesling1

This page was generated on 2021-01-11 15:59:28 -0500 (Mon, 11 Jan 2021).

TO THE DEVELOPERS/MAINTAINERS OF THE ARRmData PACKAGE: Please make sure to use the following settings in order to reproduce any error or warning you see on this page.
Package 18/385HostnameOS / ArchINSTALLBUILDCHECK
ARRmData 1.27.0
Jean-Philippe Fortin
Snapshot Date: 2021-01-11 09:00:09 -0500 (Mon, 11 Jan 2021)
URL: https://git.bioconductor.org/packages/ARRmData
Branch: master
Last Commit: b224c9c
Last Changed Date: 2020-10-27 10:00:59 -0500 (Tue, 27 Oct 2020)
malbec2 Linux (Ubuntu 20.04.1 LTS) / x86_64  OK  OK  OK UNNEEDED, same version exists in internal repository
riesling1 Windows Server 2019 Standard / x64 [ OK ] OK  OK 

Summary

Package: ARRmData
Version: 1.27.0
Command: C:\cygwin\bin\curl.exe -O http://172.29.0.4/BBS/3.13/data-experiment/src/contrib/ARRmData_1.27.0.tar.gz && rm -rf ARRmData.buildbin-libdir && mkdir ARRmData.buildbin-libdir && D:\biocbuild\bbs-3.13-bioc\R\bin\R.exe CMD INSTALL --merge-multiarch --build --library=ARRmData.buildbin-libdir ARRmData_1.27.0.tar.gz && D:\biocbuild\bbs-3.13-bioc\R\bin\R.exe CMD INSTALL ARRmData_1.27.0.zip && rm ARRmData_1.27.0.tar.gz ARRmData_1.27.0.zip
StartedAt: 2021-01-11 10:03:13 -0500 (Mon, 11 Jan 2021)
EndedAt: 2021-01-11 10:03:28 -0500 (Mon, 11 Jan 2021)
EllapsedTime: 14.3 seconds
RetCode: 0
Status:  OK  

Command output

##############################################################################
##############################################################################
###
### Running command:
###
###   C:\cygwin\bin\curl.exe -O http://172.29.0.4/BBS/3.13/data-experiment/src/contrib/ARRmData_1.27.0.tar.gz && rm -rf ARRmData.buildbin-libdir && mkdir ARRmData.buildbin-libdir && D:\biocbuild\bbs-3.13-bioc\R\bin\R.exe CMD INSTALL --merge-multiarch --build --library=ARRmData.buildbin-libdir ARRmData_1.27.0.tar.gz && D:\biocbuild\bbs-3.13-bioc\R\bin\R.exe CMD INSTALL ARRmData_1.27.0.zip && rm ARRmData_1.27.0.tar.gz ARRmData_1.27.0.zip
###
##############################################################################
##############################################################################


  % Total    % Received % Xferd  Average Speed   Time    Time     Time  Current
                                 Dload  Upload   Total   Spent    Left  Speed

  0     0    0     0    0     0      0      0 --:--:-- --:--:-- --:--:--     0
 53 56.5M   53 30.1M    0     0  31.9M      0  0:00:01 --:--:--  0:00:01 31.9M
100 56.5M  100 56.5M    0     0  37.2M      0  0:00:01  0:00:01 --:--:-- 37.2M

install for i386

* installing *source* package 'ARRmData' ...
** using staged installation
** data
** help
*** installing help indices
  converting help for package 'ARRmData'
    finding HTML links ... done
    betaMatrix                              html  
REDIRECT:topic	 betaMatrix -> betaMatrix.html [ SUCCESS ]
    greenControlMatrix                      html  
REDIRECT:topic	 greenControlMatrix -> greenControlMatrix.html [ SUCCESS ]
    redControlMatrix                        html  
REDIRECT:topic	 redControlMatrix -> redControlMatrix.html [ SUCCESS ]
    sampleNames                             html  
REDIRECT:topic	 sampleNames -> sampleNames.html [ SUCCESS ]
** building package indices
** testing if installed package can be loaded from temporary location
** testing if installed package can be loaded from final location
** testing if installed package keeps a record of temporary installation path

install for x64

* installing *source* package 'ARRmData' ...
** testing if installed package can be loaded
* MD5 sums
packaged installation of 'ARRmData' as ARRmData_1.27.0.zip
* DONE (ARRmData)
* installing to library 'D:/biocbuild/bbs-3.13-bioc/R/library'
package 'ARRmData' successfully unpacked and MD5 sums checked