Back to Multiple platform build/check report for BioC 3.13 experimental data
[A]BCDEFGHIJKLMNOPQRSTUVWXYZ

INSTALL report for ALLMLL on riesling1

This page was generated on 2021-01-18 15:58:42 -0500 (Mon, 18 Jan 2021).

TO THE DEVELOPERS/MAINTAINERS OF THE ALLMLL PACKAGE: Please make sure to use the following settings in order to reproduce any error or warning you see on this page.
Package 12/385HostnameOS / ArchINSTALLBUILDCHECK
ALLMLL 1.31.0
B. M. Bolstad
Snapshot Date: 2021-01-18 09:00:15 -0500 (Mon, 18 Jan 2021)
URL: https://git.bioconductor.org/packages/ALLMLL
Branch: master
Last Commit: 44945ac
Last Changed Date: 2020-10-27 09:44:43 -0500 (Tue, 27 Oct 2020)
malbec2 Linux (Ubuntu 20.04.1 LTS) / x86_64  OK  OK  OK UNNEEDED, same version exists in internal repository
riesling1 Windows Server 2019 Standard / x64 [ OK ] OK  OK 

Summary

Package: ALLMLL
Version: 1.31.0
Command: C:\cygwin\bin\curl.exe -O http://172.29.0.4/BBS/3.13/data-experiment/src/contrib/ALLMLL_1.31.0.tar.gz && rm -rf ALLMLL.buildbin-libdir && mkdir ALLMLL.buildbin-libdir && D:\biocbuild\bbs-3.13-bioc\R\bin\R.exe CMD INSTALL --merge-multiarch --build --library=ALLMLL.buildbin-libdir ALLMLL_1.31.0.tar.gz && D:\biocbuild\bbs-3.13-bioc\R\bin\R.exe CMD INSTALL ALLMLL_1.31.0.zip && rm ALLMLL_1.31.0.tar.gz ALLMLL_1.31.0.zip
StartedAt: 2021-01-18 10:04:59 -0500 (Mon, 18 Jan 2021)
EndedAt: 2021-01-18 10:05:09 -0500 (Mon, 18 Jan 2021)
EllapsedTime: 10.0 seconds
RetCode: 0
Status:  OK  

Command output

##############################################################################
##############################################################################
###
### Running command:
###
###   C:\cygwin\bin\curl.exe -O http://172.29.0.4/BBS/3.13/data-experiment/src/contrib/ALLMLL_1.31.0.tar.gz && rm -rf ALLMLL.buildbin-libdir && mkdir ALLMLL.buildbin-libdir && D:\biocbuild\bbs-3.13-bioc\R\bin\R.exe CMD INSTALL --merge-multiarch --build --library=ALLMLL.buildbin-libdir ALLMLL_1.31.0.tar.gz && D:\biocbuild\bbs-3.13-bioc\R\bin\R.exe CMD INSTALL ALLMLL_1.31.0.zip && rm ALLMLL_1.31.0.tar.gz ALLMLL_1.31.0.zip
###
##############################################################################
##############################################################################


  % Total    % Received % Xferd  Average Speed   Time    Time     Time  Current
                                 Dload  Upload   Total   Spent    Left  Speed

  0     0    0     0    0     0      0      0 --:--:-- --:--:-- --:--:--     0
100 25.6M  100 25.6M    0     0  92.4M      0 --:--:-- --:--:-- --:--:-- 92.4M

install for i386

* installing *source* package 'ALLMLL' ...
** using staged installation
** data
** help
*** installing help indices
  converting help for package 'ALLMLL'
    finding HTML links ... done
    MLL                                     html  
REDIRECT:topic	 MLL.A -> MLL.html [ SUCCESS ]
REDIRECT:topic	 MLL.B -> MLL.html [ SUCCESS ]
REDIRECT:file	 MLL.html -> MLL.html [ SUCCESS ]
** building package indices
** testing if installed package can be loaded from temporary location
** testing if installed package can be loaded from final location
** testing if installed package keeps a record of temporary installation path

install for x64

* installing *source* package 'ALLMLL' ...
** testing if installed package can be loaded
* MD5 sums
packaged installation of 'ALLMLL' as ALLMLL_1.31.0.zip
* DONE (ALLMLL)
* installing to library 'D:/biocbuild/bbs-3.13-bioc/R/library'
package 'ALLMLL' successfully unpacked and MD5 sums checked