Back to Multiple platform build/check report for BioC 3.13 experimental data
[A]BCDEFGHIJKLMNOPQRSTUVWXYZ

INSTALL report for ALL on riesling1

This page was generated on 2021-01-21 16:01:24 -0500 (Thu, 21 Jan 2021).

TO THE DEVELOPERS/MAINTAINERS OF THE ALL PACKAGE: Please make sure to use the following settings in order to reproduce any error or warning you see on this page.
Package 11/386HostnameOS / ArchINSTALLBUILDCHECK
ALL 1.33.0
Robert Gentleman
Snapshot Date: 2021-01-21 09:00:14 -0500 (Thu, 21 Jan 2021)
URL: https://git.bioconductor.org/packages/ALL
Branch: master
Last Commit: b374d82
Last Changed Date: 2020-10-27 09:44:39 -0500 (Tue, 27 Oct 2020)
malbec2 Linux (Ubuntu 20.04.1 LTS) / x86_64  OK  OK  OK UNNEEDED, same version exists in internal repository
riesling1 Windows Server 2019 Standard / x64 [ OK ] OK  OK 

Summary

Package: ALL
Version: 1.33.0
Command: C:\cygwin\bin\curl.exe -O http://172.29.0.4/BBS/3.13/data-experiment/src/contrib/ALL_1.33.0.tar.gz && rm -rf ALL.buildbin-libdir && mkdir ALL.buildbin-libdir && D:\biocbuild\bbs-3.13-bioc\R\bin\R.exe CMD INSTALL --merge-multiarch --build --library=ALL.buildbin-libdir ALL_1.33.0.tar.gz && D:\biocbuild\bbs-3.13-bioc\R\bin\R.exe CMD INSTALL ALL_1.33.0.zip && rm ALL_1.33.0.tar.gz ALL_1.33.0.zip
StartedAt: 2021-01-21 10:03:44 -0500 (Thu, 21 Jan 2021)
EndedAt: 2021-01-21 10:03:53 -0500 (Thu, 21 Jan 2021)
EllapsedTime: 9.4 seconds
RetCode: 0
Status:  OK  

Command output

##############################################################################
##############################################################################
###
### Running command:
###
###   C:\cygwin\bin\curl.exe -O http://172.29.0.4/BBS/3.13/data-experiment/src/contrib/ALL_1.33.0.tar.gz && rm -rf ALL.buildbin-libdir && mkdir ALL.buildbin-libdir && D:\biocbuild\bbs-3.13-bioc\R\bin\R.exe CMD INSTALL --merge-multiarch --build --library=ALL.buildbin-libdir ALL_1.33.0.tar.gz && D:\biocbuild\bbs-3.13-bioc\R\bin\R.exe CMD INSTALL ALL_1.33.0.zip && rm ALL_1.33.0.tar.gz ALL_1.33.0.zip
###
##############################################################################
##############################################################################


  % Total    % Received % Xferd  Average Speed   Time    Time     Time  Current
                                 Dload  Upload   Total   Spent    Left  Speed

  0     0    0     0    0     0      0      0 --:--:-- --:--:-- --:--:--     0
100 10.8M  100 10.8M    0     0  62.0M      0 --:--:-- --:--:-- --:--:-- 62.0M

install for i386

* installing *source* package 'ALL' ...
** using staged installation
** R
** data
** byte-compile and prepare package for lazy loading
** help
*** installing help indices
  converting help for package 'ALL'
    finding HTML links ... done
    ALL                                     html  
REDIRECT:topic	 ALL -> ALL.html [ SUCCESS ]
    tojulian                                html  
REDIRECT:topic	 tojulian -> tojulian.html [ SUCCESS ]
** building package indices
** installing vignettes
** testing if installed package can be loaded from temporary location
** testing if installed package can be loaded from final location
** testing if installed package keeps a record of temporary installation path

install for x64

* installing *source* package 'ALL' ...
** testing if installed package can be loaded
* MD5 sums
packaged installation of 'ALL' as ALL_1.33.0.zip
* DONE (ALL)
* installing to library 'D:/biocbuild/bbs-3.13-bioc/R/library'
package 'ALL' successfully unpacked and MD5 sums checked