Back to Multiple platform build/check report for BioC 3.13 experimental data
[A]BCDEFGHIJKLMNOPQRSTUVWXYZ

BUILD report for ALL on riesling1

This page was generated on 2021-01-21 16:01:24 -0500 (Thu, 21 Jan 2021).

TO THE DEVELOPERS/MAINTAINERS OF THE ALL PACKAGE: Please make sure to use the following settings in order to reproduce any error or warning you see on this page.
Package 11/386HostnameOS / ArchINSTALLBUILDCHECK
ALL 1.33.0
Robert Gentleman
Snapshot Date: 2021-01-21 09:00:14 -0500 (Thu, 21 Jan 2021)
URL: https://git.bioconductor.org/packages/ALL
Branch: master
Last Commit: b374d82
Last Changed Date: 2020-10-27 09:44:39 -0500 (Tue, 27 Oct 2020)
malbec2 Linux (Ubuntu 20.04.1 LTS) / x86_64  OK  OK  OK UNNEEDED, same version exists in internal repository
riesling1 Windows Server 2019 Standard / x64  OK [ OK ] OK 

Summary

Package: ALL
Version: 1.33.0
Command: chmod a+r ALL -R && D:\biocbuild\bbs-3.13-bioc\R\bin\R.exe CMD build --keep-empty-dirs --no-resave-data ALL
StartedAt: 2021-01-21 10:26:37 -0500 (Thu, 21 Jan 2021)
EndedAt: 2021-01-21 10:26:54 -0500 (Thu, 21 Jan 2021)
EllapsedTime: 17.7 seconds
RetCode: 0
Status:  OK  
PackageFile: ALL_1.33.0.tar.gz
PackageFileSize: 10.87 MiB

Command output

##############################################################################
##############################################################################
###
### Running command:
###
###   chmod a+r ALL -R && D:\biocbuild\bbs-3.13-bioc\R\bin\R.exe CMD build --keep-empty-dirs --no-resave-data ALL
###
##############################################################################
##############################################################################


* checking for file 'ALL/DESCRIPTION' ... OK
* preparing 'ALL':
* checking DESCRIPTION meta-information ... OK
* installing the package to build vignettes
* creating vignettes ... OK
* checking for LF line-endings in source and make files and shell scripts
* checking for empty or unneeded directories
* looking to see if a 'data/datalist' file should be added
* building 'ALL_1.33.0.tar.gz'