Back to Multiple platform build/check report for BioC 3.13 experimental data
[A]BCDEFGHIJKLMNOPQRSTUVWXYZ

INSTALL report for ABAData on riesling1

This page was generated on 2021-01-14 15:59:06 -0500 (Thu, 14 Jan 2021).

TO THE DEVELOPERS/MAINTAINERS OF THE ABAData PACKAGE: Please make sure to use the following settings in order to reproduce any error or warning you see on this page.
Package 1/385HostnameOS / ArchINSTALLBUILDCHECK
ABAData 1.21.0
Steffi Grote
Snapshot Date: 2021-01-14 09:00:13 -0500 (Thu, 14 Jan 2021)
URL: https://git.bioconductor.org/packages/ABAData
Branch: master
Last Commit: 7550693
Last Changed Date: 2020-10-27 10:13:41 -0500 (Tue, 27 Oct 2020)
malbec2 Linux (Ubuntu 20.04.1 LTS) / x86_64  OK  OK  OK UNNEEDED, same version exists in internal repository
riesling1 Windows Server 2019 Standard / x64 [ OK ] OK  OK 

Summary

Package: ABAData
Version: 1.21.0
Command: C:\cygwin\bin\curl.exe -O http://172.29.0.4/BBS/3.13/data-experiment/src/contrib/ABAData_1.21.0.tar.gz && rm -rf ABAData.buildbin-libdir && mkdir ABAData.buildbin-libdir && D:\biocbuild\bbs-3.13-bioc\R\bin\R.exe CMD INSTALL --merge-multiarch --build --library=ABAData.buildbin-libdir ABAData_1.21.0.tar.gz && D:\biocbuild\bbs-3.13-bioc\R\bin\R.exe CMD INSTALL ABAData_1.21.0.zip && rm ABAData_1.21.0.tar.gz ABAData_1.21.0.zip
StartedAt: 2021-01-14 09:49:38 -0500 (Thu, 14 Jan 2021)
EndedAt: 2021-01-14 09:49:57 -0500 (Thu, 14 Jan 2021)
EllapsedTime: 19.2 seconds
RetCode: 0
Status:  OK  

Command output

##############################################################################
##############################################################################
###
### Running command:
###
###   C:\cygwin\bin\curl.exe -O http://172.29.0.4/BBS/3.13/data-experiment/src/contrib/ABAData_1.21.0.tar.gz && rm -rf ABAData.buildbin-libdir && mkdir ABAData.buildbin-libdir && D:\biocbuild\bbs-3.13-bioc\R\bin\R.exe CMD INSTALL --merge-multiarch --build --library=ABAData.buildbin-libdir ABAData_1.21.0.tar.gz && D:\biocbuild\bbs-3.13-bioc\R\bin\R.exe CMD INSTALL ABAData_1.21.0.zip && rm ABAData_1.21.0.tar.gz ABAData_1.21.0.zip
###
##############################################################################
##############################################################################


  % Total    % Received % Xferd  Average Speed   Time    Time     Time  Current
                                 Dload  Upload   Total   Spent    Left  Speed

  0     0    0     0    0     0      0      0 --:--:-- --:--:-- --:--:--     0
  0 57.8M    0  1213    0     0   9259      0  1:49:14 --:--:--  1:49:14  9189
  3 57.8M    3 2273k    0     0  2188k      0  0:00:27  0:00:01  0:00:26 2186k
  8 57.8M    8 5152k    0     0  2272k      0  0:00:26  0:00:02  0:00:24 2272k
 12 57.8M   12 7392k    0     0  2342k      0  0:00:25  0:00:03  0:00:22 2341k
 14 57.8M   14 8487k    0     0  1990k      0  0:00:29  0:00:04  0:00:25 1990k
 25 57.8M   25 14.7M    0     0  2989k      0  0:00:19  0:00:05  0:00:14 3068k
 32 57.8M   32 18.9M    0     0  3194k      0  0:00:18  0:00:06  0:00:12 3401k
 44 57.8M   44 25.7M    0     0  3746k      0  0:00:15  0:00:07  0:00:08 4446k
100 57.8M  100 57.8M    0     0  7849k      0  0:00:07  0:00:07 --:--:-- 11.5M

install for i386

* installing *source* package 'ABAData' ...
** using staged installation
** data
** help
*** installing help indices
  converting help for package 'ABAData'
    finding HTML links ... done
    ABAData-package                         html  
REDIRECT:topic	 ABAData-package -> ABAData-package.html [ SUCCESS ]
REDIRECT:topic	 ABAData -> ABAData-package.html [ SUCCESS ]
    datasets_ABAData                        html  
REDIRECT:topic	 datasets_ABAData -> datasets_ABAData.html [ SUCCESS ]
REDIRECT:topic	 dataset_adult -> datasets_ABAData.html [ SUCCESS ]
REDIRECT:topic	 dataset_5_stages -> datasets_ABAData.html [ SUCCESS ]
REDIRECT:topic	 dataset_dev_effect -> datasets_ABAData.html [ SUCCESS ]
** building package indices
** installing vignettes
** testing if installed package can be loaded from temporary location
** testing if installed package can be loaded from final location
** testing if installed package keeps a record of temporary installation path

install for x64

* installing *source* package 'ABAData' ...
** testing if installed package can be loaded
* MD5 sums
packaged installation of 'ABAData' as ABAData_1.21.0.zip
* DONE (ABAData)
* installing to library 'D:/biocbuild/bbs-3.13-bioc/R/library'
package 'ABAData' successfully unpacked and MD5 sums checked