Index of /checkResults/3.13/books-LATEST/csawBook/raw-results/malbec2
Name
Last modified
Size
Description
Parent Directory
-
install-summary.dcf
16-Oct-2021 01:45
260
install-out.txt
16-Oct-2021 01:45
939
buildsrc-summary.dcf
16-Oct-2021 01:45
420
buildsrc-out.txt
16-Oct-2021 01:45
843