Index of /checkResults/3.13/books-LATEST/csawBook/raw-results
Name
Last modified
Size
Description
Parent Directory
-
malbec2/
16-Oct-2021 01:45
-