Name | Last modified | Size | Description | |
---|---|---|---|---|
Parent Directory | - | |||
buildbin-out.txt | 16-Oct-2021 04:06 | 20K | ||
buildbin-summary.dcf | 16-Oct-2021 04:06 | 558 | ||
buildsrc-out.txt | 16-Oct-2021 04:06 | 972 | ||
buildsrc-summary.dcf | 16-Oct-2021 04:06 | 470 | ||
checksrc-out.txt | 16-Oct-2021 04:06 | 5.1K | ||
checksrc-summary.dcf | 16-Oct-2021 04:06 | 474 | ||
install-out.txt | 16-Oct-2021 04:06 | 21K | ||
install-summary.dcf | 16-Oct-2021 04:06 | 668 | ||