Name | Last modified | Size | Description | |
---|---|---|---|---|
Parent Directory | - | |||
checksrc-out.txt | 16-Oct-2021 04:06 | 9.4K | ||
install-out.txt | 16-Oct-2021 04:06 | 3.0K | ||
buildbin-out.txt | 16-Oct-2021 04:06 | 2.2K | ||
buildsrc-out.txt | 16-Oct-2021 04:06 | 921 | ||
install-summary.dcf | 16-Oct-2021 04:06 | 706 | ||
buildbin-summary.dcf | 16-Oct-2021 04:06 | 585 | ||
checksrc-summary.dcf | 16-Oct-2021 04:06 | 492 | ||
buildsrc-summary.dcf | 16-Oct-2021 04:06 | 488 | ||