Name | Last modified | Size | Description | |
---|---|---|---|---|
Parent Directory | - | |||
buildsrc-summary.dcf | 16-Oct-2021 04:06 | 443 | ||
checksrc-summary.dcf | 16-Oct-2021 04:06 | 446 | ||
buildbin-summary.dcf | 16-Oct-2021 04:06 | 515 | ||
install-summary.dcf | 16-Oct-2021 04:06 | 604 | ||
buildsrc-out.txt | 16-Oct-2021 04:06 | 825 | ||
buildbin-out.txt | 16-Oct-2021 04:06 | 1.7K | ||
install-out.txt | 16-Oct-2021 04:06 | 2.4K | ||
checksrc-out.txt | 16-Oct-2021 04:06 | 7.9K | ||