Index of /checkResults/3.13/bioc-LATEST/simulatorZ/raw-results/machv2
Name
Last modified
Size
Description
Parent Directory
-
buildsrc-out.txt
16-Oct-2021 04:06
938
install-out.txt
16-Oct-2021 04:06
708
buildsrc-summary.dcf
16-Oct-2021 04:06
365
install-summary.dcf
16-Oct-2021 04:06
294