Name | Last modified | Size | Description | |
---|---|---|---|---|
Parent Directory | - | |||
buildbin-out.txt | 16-Oct-2021 04:06 | 1.5K | ||
buildbin-summary.dcf | 16-Oct-2021 04:06 | 570 | ||
buildsrc-out.txt | 16-Oct-2021 04:06 | 1.2K | ||
buildsrc-summary.dcf | 16-Oct-2021 04:06 | 457 | ||
checksrc-out.txt | 16-Oct-2021 04:06 | 8.6K | ||
checksrc-summary.dcf | 16-Oct-2021 04:06 | 500 | ||
install-out.txt | 16-Oct-2021 04:06 | 1.3K | ||
install-summary.dcf | 16-Oct-2021 04:06 | 294 | ||